BEGIN:VCALENDAR
VERSION:2.0
PRODID:-//Grace Hill Church - ECPv6.15.20//NONSGML v1.0//EN
CALSCALE:GREGORIAN
METHOD:PUBLISH
X-WR-CALNAME:Grace Hill Church
X-ORIGINAL-URL:https://grace-hill.org
X-WR-CALDESC:Events for Grace Hill Church
REFRESH-INTERVAL;VALUE=DURATION:PT1H
X-Robots-Tag:noindex
X-PUBLISHED-TTL:PT1H
BEGIN:VTIMEZONE
TZID:America/Los_Angeles
BEGIN:DAYLIGHT
TZOFFSETFROM:-0800
TZOFFSETTO:-0700
TZNAME:PDT
DTSTART:20250309T100000
END:DAYLIGHT
BEGIN:STANDARD
TZOFFSETFROM:-0700
TZOFFSETTO:-0800
TZNAME:PST
DTSTART:20251102T090000
END:STANDARD
BEGIN:DAYLIGHT
TZOFFSETFROM:-0800
TZOFFSETTO:-0700
TZNAME:PDT
DTSTART:20260308T100000
END:DAYLIGHT
BEGIN:STANDARD
TZOFFSETFROM:-0700
TZOFFSETTO:-0800
TZNAME:PST
DTSTART:20261101T090000
END:STANDARD
BEGIN:DAYLIGHT
TZOFFSETFROM:-0800
TZOFFSETTO:-0700
TZNAME:PDT
DTSTART:20270314T100000
END:DAYLIGHT
BEGIN:STANDARD
TZOFFSETFROM:-0700
TZOFFSETTO:-0800
TZNAME:PST
DTSTART:20271107T090000
END:STANDARD
END:VTIMEZONE
BEGIN:VEVENT
DTSTART;TZID=America/Los_Angeles:20260213T113000
DTEND;TZID=America/Los_Angeles:20260213T130000
DTSTAMP:20260423T160707
CREATED:20260201T140011Z
LAST-MODIFIED:20260201T141225Z
UID:1840-1770982200-1770987600@grace-hill.org
SUMMARY:Remembrance Luncheon
DESCRIPTION:The Grace Hill Deacons warmly invite you to a Remembrance Luncheon\, a special gathering for widows and widowers.  Please bring a photo of your spouse to include in this special remembrance. \nLocation: Jesús Mexican Restaurant\, 16715C Monterey Rd\, Morgan Hill\, CA\nCost: Free\nRSVP to Marilyn by February 8th
URL:https://grace-hill.org/event/remembrance-luncheon
LOCATION:Jesús Mexican Restaurant\, 16715C Monterey Rd\, Morgan Hill\, CA\, 95037\, United States
CATEGORIES:Other
END:VEVENT
END:VCALENDAR