BEGIN:VCALENDAR
VERSION:2.0
PRODID:-//Grace Hill Church - ECPv6.15.20//NONSGML v1.0//EN
CALSCALE:GREGORIAN
METHOD:PUBLISH
X-WR-CALNAME:Grace Hill Church
X-ORIGINAL-URL:https://grace-hill.org
X-WR-CALDESC:Events for Grace Hill Church
REFRESH-INTERVAL;VALUE=DURATION:PT1H
X-Robots-Tag:noindex
X-PUBLISHED-TTL:PT1H
BEGIN:VTIMEZONE
TZID:America/Los_Angeles
BEGIN:DAYLIGHT
TZOFFSETFROM:-0800
TZOFFSETTO:-0700
TZNAME:PDT
DTSTART:20250309T100000
END:DAYLIGHT
BEGIN:STANDARD
TZOFFSETFROM:-0700
TZOFFSETTO:-0800
TZNAME:PST
DTSTART:20251102T090000
END:STANDARD
BEGIN:DAYLIGHT
TZOFFSETFROM:-0800
TZOFFSETTO:-0700
TZNAME:PDT
DTSTART:20260308T100000
END:DAYLIGHT
BEGIN:STANDARD
TZOFFSETFROM:-0700
TZOFFSETTO:-0800
TZNAME:PST
DTSTART:20261101T090000
END:STANDARD
BEGIN:DAYLIGHT
TZOFFSETFROM:-0800
TZOFFSETTO:-0700
TZNAME:PDT
DTSTART:20270314T100000
END:DAYLIGHT
BEGIN:STANDARD
TZOFFSETFROM:-0700
TZOFFSETTO:-0800
TZNAME:PST
DTSTART:20271107T090000
END:STANDARD
END:VTIMEZONE
BEGIN:VEVENT
DTSTART;TZID=America/Los_Angeles:20260204T100000
DTEND;TZID=America/Los_Angeles:20260204T113000
DTSTAMP:20260423T142355
CREATED:20260201T134304Z
LAST-MODIFIED:20260201T134304Z
UID:1824-1770199200-1770204600@grace-hill.org
SUMMARY:Inductive Bible Study
DESCRIPTION:Join us for our midweek Inductive Bible Study\, where we examine the Bible\, emphasizing and observing the text\, interpreting its meaning\, and applying it to our lives. \nCurrently\, we are studying  the book of Genesis called “In the Beginning: Finding Our Story in God’s Story.” A Journey from Eden to Egypt\, discovering how Genesis reshapes our lives today. Genesis is not only the first book in our Bible; it’s the foundation of all our stories. We will explore how this ancient text continues to resonate with our lives today. \nWhy are we here?\nWhat does it mean to be human?\nDoes God work through the mess of life? \nFrom Eden to Egypt\, we’ll trace the deep storyline that ultimately leads us to Christ—and helps us make sense of our own story along the way. \nWhether you’ve read Genesis a dozen times or never opened it\, this will be a space to grow\, ask big questions\, and be reminded that God’s story is still unfolding. \nWhether you’re brand new to Bible study or have been studying Scripture for decades\, this is a space for you. Bring your questions\, your story\, and your desire to grow in faith—we’ll learn together in community and prayer. Feel free to bring a friend or neighbor along! ALL ARE WELCOME!
URL:https://grace-hill.org/event/inductive-bible-study-2
LOCATION:Fellowship Hall\, 16970 DeWitt Avenue\, Morgan Hill\, California
CATEGORIES:Inductive Bible Study
END:VEVENT
BEGIN:VEVENT
DTSTART;TZID=America/Los_Angeles:20260211T100000
DTEND;TZID=America/Los_Angeles:20260211T113000
DTSTAMP:20260423T142355
CREATED:20260201T134535Z
LAST-MODIFIED:20260201T135129Z
UID:1830-1770804000-1770809400@grace-hill.org
SUMMARY:Inductive Bible Study
DESCRIPTION:Join us for our midweek Inductive Bible Study\, where we examine the Bible\, emphasizing and observing the text\, interpreting its meaning\, and applying it to our lives. \nCurrently\, we are studying  the book of Genesis called “In the Beginning: Finding Our Story in God’s Story.” A Journey from Eden to Egypt\, discovering how Genesis reshapes our lives today. Genesis is not only the first book in our Bible; it’s the foundation of all our stories. We will explore how this ancient text continues to resonate with our lives today. \nWhy are we here?\nWhat does it mean to be human?\nDoes God work through the mess of life? \nFrom Eden to Egypt\, we’ll trace the deep storyline that ultimately leads us to Christ—and helps us make sense of our own story along the way. \nWhether you’ve read Genesis a dozen times or never opened it\, this will be a space to grow\, ask big questions\, and be reminded that God’s story is still unfolding. \nWhether you’re brand new to Bible study or have been studying Scripture for decades\, this is a space for you. Bring your questions\, your story\, and your desire to grow in faith—we’ll learn together in community and prayer. Feel free to bring a friend or neighbor along! ALL ARE WELCOME!
URL:https://grace-hill.org/event/inductive-bible-study-6
LOCATION:Fellowship Hall\, 16970 DeWitt Avenue\, Morgan Hill\, California
CATEGORIES:Inductive Bible Study
END:VEVENT
BEGIN:VEVENT
DTSTART;TZID=America/Los_Angeles:20260225T100000
DTEND;TZID=America/Los_Angeles:20260225T113000
DTSTAMP:20260423T142355
CREATED:20260201T134439Z
LAST-MODIFIED:20260201T134439Z
UID:1828-1772013600-1772019000@grace-hill.org
SUMMARY:Inductive Bible Study
DESCRIPTION:Join us for our midweek Inductive Bible Study\, where we examine the Bible\, emphasizing and observing the text\, interpreting its meaning\, and applying it to our lives. \nCurrently\, we are studying  the book of Genesis called “In the Beginning: Finding Our Story in God’s Story.” A Journey from Eden to Egypt\, discovering how Genesis reshapes our lives today. Genesis is not only the first book in our Bible; it’s the foundation of all our stories. We will explore how this ancient text continues to resonate with our lives today. \nWhy are we here?\nWhat does it mean to be human?\nDoes God work through the mess of life? \nFrom Eden to Egypt\, we’ll trace the deep storyline that ultimately leads us to Christ—and helps us make sense of our own story along the way. \nWhether you’ve read Genesis a dozen times or never opened it\, this will be a space to grow\, ask big questions\, and be reminded that God’s story is still unfolding. \nWhether you’re brand new to Bible study or have been studying Scripture for decades\, this is a space for you. Bring your questions\, your story\, and your desire to grow in faith—we’ll learn together in community and prayer. Feel free to bring a friend or neighbor along! ALL ARE WELCOME!
URL:https://grace-hill.org/event/inductive-bible-study-5
LOCATION:Fellowship Hall\, 16970 DeWitt Avenue\, Morgan Hill\, California
CATEGORIES:Inductive Bible Study
END:VEVENT
END:VCALENDAR