BEGIN:VCALENDAR
VERSION:2.0
PRODID:-//Grace Hill Church - ECPv6.15.20//NONSGML v1.0//EN
CALSCALE:GREGORIAN
METHOD:PUBLISH
X-WR-CALNAME:Grace Hill Church
X-ORIGINAL-URL:https://grace-hill.org
X-WR-CALDESC:Events for Grace Hill Church
REFRESH-INTERVAL;VALUE=DURATION:PT1H
X-Robots-Tag:noindex
X-PUBLISHED-TTL:PT1H
BEGIN:VTIMEZONE
TZID:America/Los_Angeles
BEGIN:DAYLIGHT
TZOFFSETFROM:-0800
TZOFFSETTO:-0700
TZNAME:PDT
DTSTART:20250309T100000
END:DAYLIGHT
BEGIN:STANDARD
TZOFFSETFROM:-0700
TZOFFSETTO:-0800
TZNAME:PST
DTSTART:20251102T090000
END:STANDARD
BEGIN:DAYLIGHT
TZOFFSETFROM:-0800
TZOFFSETTO:-0700
TZNAME:PDT
DTSTART:20260308T100000
END:DAYLIGHT
BEGIN:STANDARD
TZOFFSETFROM:-0700
TZOFFSETTO:-0800
TZNAME:PST
DTSTART:20261101T090000
END:STANDARD
BEGIN:DAYLIGHT
TZOFFSETFROM:-0800
TZOFFSETTO:-0700
TZNAME:PDT
DTSTART:20270314T100000
END:DAYLIGHT
BEGIN:STANDARD
TZOFFSETFROM:-0700
TZOFFSETTO:-0800
TZNAME:PST
DTSTART:20271107T090000
END:STANDARD
END:VTIMEZONE
BEGIN:VEVENT
DTSTART;TZID=America/Los_Angeles:20260415T070000
DTEND;TZID=America/Los_Angeles:20260415T080000
DTSTAMP:20260423T140340
CREATED:20260331T220354Z
LAST-MODIFIED:20260331T220354Z
UID:1929-1776236400-1776240000@grace-hill.org
SUMMARY:Men's Bible Study
DESCRIPTION:The Grace Hill Church’s Men’s Bible Study invites you to join them in a Zoom meeting on Wednesday mornings from 7:00 – 8:00 AM.  The group is currently studying the book of Romans. For more information or for the Zoom link\, contact Mark Markham using our contact form.
URL:https://grace-hill.org/event/mens-bible-study-30
LOCATION:Zoom Meeting
CATEGORIES:Men's Ministry
END:VEVENT
END:VCALENDAR