BEGIN:VCALENDAR
VERSION:2.0
PRODID:-//Grace Hill Church - ECPv6.15.20//NONSGML v1.0//EN
CALSCALE:GREGORIAN
METHOD:PUBLISH
X-ORIGINAL-URL:https://grace-hill.org
X-WR-CALDESC:Events for Grace Hill Church
REFRESH-INTERVAL;VALUE=DURATION:PT1H
X-Robots-Tag:noindex
X-PUBLISHED-TTL:PT1H
BEGIN:VTIMEZONE
TZID:America/Los_Angeles
BEGIN:DAYLIGHT
TZOFFSETFROM:-0800
TZOFFSETTO:-0700
TZNAME:PDT
DTSTART:20240310T100000
END:DAYLIGHT
BEGIN:STANDARD
TZOFFSETFROM:-0700
TZOFFSETTO:-0800
TZNAME:PST
DTSTART:20241103T090000
END:STANDARD
BEGIN:DAYLIGHT
TZOFFSETFROM:-0800
TZOFFSETTO:-0700
TZNAME:PDT
DTSTART:20250309T100000
END:DAYLIGHT
BEGIN:STANDARD
TZOFFSETFROM:-0700
TZOFFSETTO:-0800
TZNAME:PST
DTSTART:20251102T090000
END:STANDARD
BEGIN:DAYLIGHT
TZOFFSETFROM:-0800
TZOFFSETTO:-0700
TZNAME:PDT
DTSTART:20260308T100000
END:DAYLIGHT
BEGIN:STANDARD
TZOFFSETFROM:-0700
TZOFFSETTO:-0800
TZNAME:PST
DTSTART:20261101T090000
END:STANDARD
BEGIN:DAYLIGHT
TZOFFSETFROM:-0800
TZOFFSETTO:-0700
TZNAME:PDT
DTSTART:20270314T100000
END:DAYLIGHT
BEGIN:STANDARD
TZOFFSETFROM:-0700
TZOFFSETTO:-0800
TZNAME:PST
DTSTART:20271107T090000
END:STANDARD
END:VTIMEZONE
BEGIN:VEVENT
DTSTART;TZID=America/Los_Angeles:20260419T093000
DTEND;TZID=America/Los_Angeles:20260419T103000
DTSTAMP:20260423T110034
CREATED:20260420T140502Z
LAST-MODIFIED:20260420T140502Z
UID:1973-1776591000-1776594600@grace-hill.org
SUMMARY:Sunday Worship Service
DESCRIPTION:Join us for a spirited worship service and hear a powerful teaching sermon. \nWatch us live Sundays at 9:30 AM on Facebook.\nMissed the Live Stream? Watch past messages here.
URL:https://grace-hill.org/event/sunday-worship-service-5
LOCATION:Sanctuary\, 16970 DeWitt Avenue\, Morgan Hill\, California
CATEGORIES:Services
END:VEVENT
BEGIN:VEVENT
DTSTART;TZID=America/Los_Angeles:20260412T093000
DTEND;TZID=America/Los_Angeles:20260412T103000
DTSTAMP:20260423T110034
CREATED:20260420T140412Z
LAST-MODIFIED:20260420T140412Z
UID:1971-1775986200-1775989800@grace-hill.org
SUMMARY:Sunday Worship Service
DESCRIPTION:Join us for a spirited worship service and hear a powerful teaching sermon. \nWatch us live Sundays at 9:30 AM on Facebook.\nMissed the Live Stream? Watch past messages here.
URL:https://grace-hill.org/event/sunday-worship-service-4
LOCATION:Sanctuary\, 16970 DeWitt Avenue\, Morgan Hill\, California
CATEGORIES:Services
END:VEVENT
BEGIN:VEVENT
DTSTART;TZID=America/Los_Angeles:20260405T093000
DTEND;TZID=America/Los_Angeles:20260405T103000
DTSTAMP:20260423T110034
CREATED:20260420T140326Z
LAST-MODIFIED:20260420T140625Z
UID:1969-1775381400-1775385000@grace-hill.org
SUMMARY:Sunday Worship Service - Easter Sunday
DESCRIPTION:Join us for a spirited worship service and hear a powerful teaching sermon. \nWatch us live Sundays at 9:30 AM on Facebook.\nMissed the Live Stream? Watch past messages here.
URL:https://grace-hill.org/event/sunday-worship-service-easter-sunday
LOCATION:Sanctuary\, 16970 DeWitt Avenue\, Morgan Hill\, California
CATEGORIES:Services
END:VEVENT
BEGIN:VEVENT
DTSTART;TZID=America/Los_Angeles:20260329T093000
DTEND;TZID=America/Los_Angeles:20260329T103000
DTSTAMP:20260423T110034
CREATED:20260227T130041Z
LAST-MODIFIED:20260420T140201Z
UID:1913-1774776600-1774780200@grace-hill.org
SUMMARY:Sunday Worship Services - Palm Sunday
DESCRIPTION:Join us for a spirited worship service and hear a powerful teaching sermon. \nWatch us live Sundays at 9:30 AM on Facebook.\nMissed the Live Stream? Watch past messages here.
URL:https://grace-hill.org/event/sunday-worship-services
LOCATION:Sanctuary\, 16970 DeWitt Avenue\, Morgan Hill\, California
CATEGORIES:Services
END:VEVENT
BEGIN:VEVENT
DTSTART;TZID=America/Los_Angeles:20260322T093000
DTEND;TZID=America/Los_Angeles:20260322T103000
DTSTAMP:20260423T110034
CREATED:20260227T125957Z
LAST-MODIFIED:20260227T125957Z
UID:1911-1774171800-1774175400@grace-hill.org
SUMMARY:Sunday Worship Service
DESCRIPTION:Join us for a spirited worship service and hear a powerful teaching sermon. \nWatch us live Sundays at 9:30 AM on Facebook.\nMissed the Live Stream? Watch past messages here.
URL:https://grace-hill.org/event/sunday-worship-service-8
LOCATION:Sanctuary\, 16970 DeWitt Avenue\, Morgan Hill\, California
CATEGORIES:Services
END:VEVENT
BEGIN:VEVENT
DTSTART;TZID=America/Los_Angeles:20260315T093000
DTEND;TZID=America/Los_Angeles:20260315T103000
DTSTAMP:20260423T110034
CREATED:20260227T125912Z
LAST-MODIFIED:20260227T125912Z
UID:1909-1773567000-1773570600@grace-hill.org
SUMMARY:Sunday Worship Service
DESCRIPTION:Join us for a spirited worship service and hear a powerful teaching sermon. \nWatch us live Sundays at 9:30 AM on Facebook.\nMissed the Live Stream? Watch past messages here.
URL:https://grace-hill.org/event/sunday-worship-service-3
LOCATION:Sanctuary\, 16970 DeWitt Avenue\, Morgan Hill\, California
CATEGORIES:Services
END:VEVENT
BEGIN:VEVENT
DTSTART;TZID=America/Los_Angeles:20260308T093000
DTEND;TZID=America/Los_Angeles:20260308T103000
DTSTAMP:20260423T110034
CREATED:20260227T125820Z
LAST-MODIFIED:20260227T125820Z
UID:1907-1772962200-1772965800@grace-hill.org
SUMMARY:Sunday Worship Service
DESCRIPTION:Join us for a spirited worship service and hear a powerful teaching sermon. \nWatch us live Sundays at 9:30 AM on Facebook.\nMissed the Live Stream? Watch past messages here.
URL:https://grace-hill.org/event/sunday-worship-service-2
LOCATION:Sanctuary\, 16970 DeWitt Avenue\, Morgan Hill\, California
CATEGORIES:Services
END:VEVENT
BEGIN:VEVENT
DTSTART;TZID=America/Los_Angeles:20260301T093000
DTEND;TZID=America/Los_Angeles:20260301T103000
DTSTAMP:20260423T110034
CREATED:20260227T125732Z
LAST-MODIFIED:20260227T125732Z
UID:1905-1772357400-1772361000@grace-hill.org
SUMMARY:Sunday Worship Service
DESCRIPTION:Join us for a spirited worship service and hear a powerful teaching sermon. \nWatch us live Sundays at 9:30 AM on Facebook.\nMissed the Live Stream? Watch past messages here.
URL:https://grace-hill.org/event/sunday-worship-service
LOCATION:Sanctuary\, 16970 DeWitt Avenue\, Morgan Hill\, California
CATEGORIES:Services
END:VEVENT
BEGIN:VEVENT
DTSTART;TZID=America/Los_Angeles:20260222T080000
DTEND;TZID=America/Los_Angeles:20260222T170000
DTSTAMP:20260423T110034
CREATED:20260201T133607Z
LAST-MODIFIED:20260201T133608Z
UID:1813-1771747200-1771779600@grace-hill.org
SUMMARY:Sunday Worship Service
DESCRIPTION:Join us for a spirited worship service and hear a powerful teaching sermon. \nWatch us live Sundays at 9:30 AM on Facebook.\nMissed the Live Stream? Watch past messages here.
URL:https://grace-hill.org/event/sunday-worship-service-28
LOCATION:Sanctuary\, 16970 DeWitt Avenue\, Morgan Hill\, California
CATEGORIES:Services
END:VEVENT
BEGIN:VEVENT
DTSTART;TZID=America/Los_Angeles:20260215T093000
DTEND;TZID=America/Los_Angeles:20260215T103000
DTSTAMP:20260423T110034
CREATED:20260201T133446Z
LAST-MODIFIED:20260201T133446Z
UID:1809-1771147800-1771151400@grace-hill.org
SUMMARY:Sunday Worship Service
DESCRIPTION:Join us for a spirited worship service and hear a powerful teaching sermon. \nWatch us live Sundays at 9:30 AM on Facebook.\nMissed the Live Stream? Watch past messages here.
URL:https://grace-hill.org/event/sunday-worship-service-26
LOCATION:Sanctuary\, 16970 DeWitt Avenue\, Morgan Hill\, California
CATEGORIES:Services
END:VEVENT
BEGIN:VEVENT
DTSTART;TZID=America/Los_Angeles:20260208T093000
DTEND;TZID=America/Los_Angeles:20260208T103000
DTSTAMP:20260423T110034
CREATED:20260201T133401Z
LAST-MODIFIED:20260201T133402Z
UID:1807-1770543000-1770546600@grace-hill.org
SUMMARY:Sunday Worship Service
DESCRIPTION:Join us for a spirited worship service and hear a powerful teaching sermon. \nWatch us live Sundays at 9:30 AM on Facebook.\nMissed the Live Stream? Watch past messages here.
URL:https://grace-hill.org/event/sunday-worship-service-24
LOCATION:Sanctuary\, 16970 DeWitt Avenue\, Morgan Hill\, California
CATEGORIES:Services
END:VEVENT
BEGIN:VEVENT
DTSTART;TZID=America/Los_Angeles:20260201T093000
DTEND;TZID=America/Los_Angeles:20260201T103000
DTSTAMP:20260423T110034
CREATED:20260201T133311Z
LAST-MODIFIED:20260201T133311Z
UID:1805-1769938200-1769941800@grace-hill.org
SUMMARY:Sunday Worship Service
DESCRIPTION:Join us for a spirited worship service and hear a powerful teaching sermon. \nWatch us live Sundays at 9:30 AM on Facebook.\nMissed the Live Stream? Watch past messages here.
URL:https://grace-hill.org/event/sunday-worship-service-23
LOCATION:Sanctuary\, 16970 DeWitt Avenue\, Morgan Hill\, California
CATEGORIES:Services
END:VEVENT
BEGIN:VEVENT
DTSTART;TZID=America/Los_Angeles:20260125T093000
DTEND;TZID=America/Los_Angeles:20260125T103000
DTSTAMP:20260423T110034
CREATED:20251215T130419Z
LAST-MODIFIED:20251215T130420Z
UID:1786-1769333400-1769337000@grace-hill.org
SUMMARY:Sunday Worship Service
DESCRIPTION:Join us for a spirited worship service and hear a powerful teaching sermon. \nWatch us live Sundays at 9:30 AM on Facebook.\nMissed the Live Stream? Watch past messages here.
URL:https://grace-hill.org/event/sunday-worship-service-22
LOCATION:Sanctuary\, 16970 DeWitt Avenue\, Morgan Hill\, California
CATEGORIES:Services
END:VEVENT
BEGIN:VEVENT
DTSTART;TZID=America/Los_Angeles:20260118T093000
DTEND;TZID=America/Los_Angeles:20260118T103000
DTSTAMP:20260423T110034
CREATED:20251215T130116Z
LAST-MODIFIED:20251215T130335Z
UID:1783-1768728600-1768732200@grace-hill.org
SUMMARY:Sunday Worship Service
DESCRIPTION:Join us for a spirited worship service and hear a powerful teaching sermon. \nWatch us live Sundays at 9:30 AM on Facebook.\nMissed the Live Stream? Watch past messages here.
URL:https://grace-hill.org/event/sunday-worship-service-21
LOCATION:Sanctuary\, 16970 DeWitt Avenue\, Morgan Hill\, California
CATEGORIES:Services
END:VEVENT
BEGIN:VEVENT
DTSTART;TZID=America/Los_Angeles:20260111T093000
DTEND;TZID=America/Los_Angeles:20260111T103000
DTSTAMP:20260423T110034
CREATED:20251215T130027Z
LAST-MODIFIED:20251215T130039Z
UID:1781-1768123800-1768127400@grace-hill.org
SUMMARY:Sunday Worship Service
DESCRIPTION:Join us for a spirited worship service and hear a powerful teaching sermon. \nWatch us live Sundays at 9:30 AM on Facebook.\nMissed the Live Stream? Watch past messages here.
URL:https://grace-hill.org/event/sunday-worship-service-20
LOCATION:Sanctuary\, 16970 DeWitt Avenue\, Morgan Hill\, California
CATEGORIES:Services
END:VEVENT
BEGIN:VEVENT
DTSTART;TZID=America/Los_Angeles:20260104T093000
DTEND;TZID=America/Los_Angeles:20260104T103000
DTSTAMP:20260423T110034
CREATED:20251215T125946Z
LAST-MODIFIED:20251215T125946Z
UID:1779-1767519000-1767522600@grace-hill.org
SUMMARY:Sunday Worship Service
DESCRIPTION:Join us for a spirited worship service and hear a powerful teaching sermon. \nWatch us live Sundays at 9:30 AM on Facebook.\nMissed the Live Stream? Watch past messages here.
URL:https://grace-hill.org/event/sunday-worship-service-19
LOCATION:Sanctuary\, 16970 DeWitt Avenue\, Morgan Hill\, California
CATEGORIES:Services
END:VEVENT
BEGIN:VEVENT
DTSTART;TZID=America/Los_Angeles:20251228T093000
DTEND;TZID=America/Los_Angeles:20251228T103000
DTSTAMP:20260423T110034
CREATED:20251215T125004Z
LAST-MODIFIED:20251215T130251Z
UID:1776-1766914200-1766917800@grace-hill.org
SUMMARY:Sunday Worship Service
DESCRIPTION:Join us for a spirited worship service and hear a powerful teaching sermon. \nWatch us live Sundays at 9:30 AM on Facebook.\nMissed the Live Stream? Watch past messages here.
URL:https://grace-hill.org/event/sunday-worship-service-18
LOCATION:Sanctuary\, 16970 DeWitt Avenue\, Morgan Hill\, California
CATEGORIES:Services
END:VEVENT
BEGIN:VEVENT
DTSTART;TZID=America/Los_Angeles:20251224T160000
DTEND;TZID=America/Los_Angeles:20251224T170000
DTSTAMP:20260423T110034
CREATED:20251217T185857Z
LAST-MODIFIED:20251217T185857Z
UID:1793-1766592000-1766595600@grace-hill.org
SUMMARY:Christmas Eve Service
DESCRIPTION:Join us for a candlelight service centered on the good news of Christ’s birth—warm\, accessible\, and meaningful for all ages.
URL:https://grace-hill.org/event/christmas-eve-service
LOCATION:Sanctuary\, 16970 DeWitt Avenue\, Morgan Hill\, California
CATEGORIES:Services
END:VEVENT
BEGIN:VEVENT
DTSTART;TZID=America/Los_Angeles:20251221T093000
DTEND;TZID=America/Los_Angeles:20251221T103000
DTSTAMP:20260423T110034
CREATED:20251215T123020Z
LAST-MODIFIED:20251215T123020Z
UID:1744-1766309400-1766313000@grace-hill.org
SUMMARY:Sunday Worship Service
DESCRIPTION:Join us for a spirited worship service and hear a powerful teaching sermon. \nWatch us live Sundays at 9:30 AM on Facebook.\nMissed the Live Stream? Watch past messages here.
URL:https://grace-hill.org/event/sunday-worship-service-17
LOCATION:Sanctuary\, 16970 DeWitt Avenue\, Morgan Hill\, California
CATEGORIES:Services
END:VEVENT
BEGIN:VEVENT
DTSTART;TZID=America/Los_Angeles:20251214T093000
DTEND;TZID=America/Los_Angeles:20251214T103000
DTSTAMP:20260423T110034
CREATED:20251109T133427Z
LAST-MODIFIED:20251215T122915Z
UID:1729-1765704600-1765708200@grace-hill.org
SUMMARY:Sunday Worship Service
DESCRIPTION:Join us for a spirited worship service and hear a powerful teaching sermon. \nWatch us live Sundays at 9:30 AM on Facebook.\nMissed the Live Stream? Watch past messages here.
URL:https://grace-hill.org/event/sunday-worship-service-16
LOCATION:Sanctuary\, 16970 DeWitt Avenue\, Morgan Hill\, California
CATEGORIES:Services
END:VEVENT
BEGIN:VEVENT
DTSTART;TZID=America/Los_Angeles:20251207T080000
DTEND;TZID=America/Los_Angeles:20251207T170000
DTSTAMP:20260423T110034
CREATED:20251109T133312Z
LAST-MODIFIED:20251109T133313Z
UID:1726-1765094400-1765126800@grace-hill.org
SUMMARY:Sunday Worship Service
DESCRIPTION:Join us for a spirited worship service and hear a powerful teaching sermon. \nWatch us live Sundays at 9:30 AM on Facebook.\nMissed the Live Stream? Watch past messages here.
URL:https://grace-hill.org/event/sunday-worship-service-15
LOCATION:Sanctuary\, 16970 DeWitt Avenue\, Morgan Hill\, California
CATEGORIES:Services
END:VEVENT
BEGIN:VEVENT
DTSTART;TZID=America/Los_Angeles:20251130T080000
DTEND;TZID=America/Los_Angeles:20251130T170000
DTSTAMP:20260423T110034
CREATED:20251109T133229Z
LAST-MODIFIED:20251109T133230Z
UID:1724-1764489600-1764522000@grace-hill.org
SUMMARY:Sunday Worship Service
DESCRIPTION:Join us for a spirited worship service and hear a powerful teaching sermon. \nWatch us live Sundays at 9:30 AM on Facebook.\nMissed the Live Stream? Watch past messages here.
URL:https://grace-hill.org/event/sunday-worship-service-14
LOCATION:Sanctuary\, 16970 DeWitt Avenue\, Morgan Hill\, California
CATEGORIES:Services
END:VEVENT
BEGIN:VEVENT
DTSTART;TZID=America/Los_Angeles:20251123T080000
DTEND;TZID=America/Los_Angeles:20251123T170000
DTSTAMP:20260423T110034
CREATED:20251109T133151Z
LAST-MODIFIED:20251109T133151Z
UID:1722-1763884800-1763917200@grace-hill.org
SUMMARY:Sunday Worship Service
DESCRIPTION:Join us for a spirited worship service and hear a powerful teaching sermon. \nWatch us live Sundays at 9:30 AM on Facebook.\nMissed the Live Stream? Watch past messages here.
URL:https://grace-hill.org/event/sunday-worship-service-13
LOCATION:Sanctuary\, 16970 DeWitt Avenue\, Morgan Hill\, California
CATEGORIES:Services
END:VEVENT
BEGIN:VEVENT
DTSTART;TZID=America/Los_Angeles:20251116T093000
DTEND;TZID=America/Los_Angeles:20251116T113000
DTSTAMP:20260423T110034
CREATED:20251109T133054Z
LAST-MODIFIED:20251109T133055Z
UID:1720-1763285400-1763292600@grace-hill.org
SUMMARY:Sunday Worship Service
DESCRIPTION:Join us for a spirited worship service and hear a powerful teaching sermon. \nWatch us live Sundays at 9:30 AM on Facebook.\nMissed the Live Stream? Watch past messages here.
URL:https://grace-hill.org/event/sunday-worship-service-12
LOCATION:Sanctuary\, 16970 DeWitt Avenue\, Morgan Hill\, California
CATEGORIES:Services
END:VEVENT
BEGIN:VEVENT
DTSTART;TZID=America/Los_Angeles:20251109T093000
DTEND;TZID=America/Los_Angeles:20251109T103000
DTSTAMP:20260423T110034
CREATED:20250929T130519Z
LAST-MODIFIED:20251109T132540Z
UID:1666-1762680600-1762684200@grace-hill.org
SUMMARY:Sunday Worship Service
DESCRIPTION:Join our spirited worship service and listen to a powerful teaching sermon. \nDavid Frederick\, Executive Pastor at West Hills Community Church\, is preaching from Philippians 1:12–30 on “The Three Keys for Gratitude in Hardship”—a powerful reminder of how we can choose joy even when life is difficult. \nWatch us live Sundays at 9:30 AM on Facebook.\nMissed the Live Stream? Watch past messages here.
URL:https://grace-hill.org/event/sunday-worship-service-33
LOCATION:Sanctuary\, 16970 DeWitt Avenue\, Morgan Hill\, California
CATEGORIES:Services
END:VEVENT
BEGIN:VEVENT
DTSTART;TZID=America/Los_Angeles:20251102T093000
DTEND;TZID=America/Los_Angeles:20251102T103000
DTSTAMP:20260423T110034
CREATED:20250929T122618Z
LAST-MODIFIED:20250929T122619Z
UID:1654-1762075800-1762079400@grace-hill.org
SUMMARY:Sunday Worship Service
DESCRIPTION:Join our spirited worship service and listen to a powerful teaching sermon. \nPastor Tyler is preaching a series\, Songs in a Strange Land – the Book of Daniel. The title comes from Psalm 137\, where God’s people asked\, “How can we sing the LORD’s song in a foreign land?” It’s a question that still echoes for us: how do we remain faithful and hopeful in a world that doesn’t always share our values? \nWatch us live Sundays at 9:30 AM on Facebook.\nMissed the Live Stream? Watch past messages here.
URL:https://grace-hill.org/event/sunday-worship-service-32
LOCATION:Sanctuary\, 16970 DeWitt Avenue\, Morgan Hill\, California
CATEGORIES:Services
END:VEVENT
BEGIN:VEVENT
DTSTART;TZID=America/Los_Angeles:20251026T093000
DTEND;TZID=America/Los_Angeles:20251026T103000
DTSTAMP:20260423T110034
CREATED:20250929T122422Z
LAST-MODIFIED:20251109T132931Z
UID:1651-1761471000-1761474600@grace-hill.org
SUMMARY:Sunday Worship Service
DESCRIPTION:Join our spirited worship service and listen to a powerful teaching sermon. \nIn the opening of Philippians\, Paul writes from prison with joy and confidence — not in himself\, but in the God who began a good work among His people and will carry it to completion. Pastor Tyler Allred explores how this truth frees us from both anxiety and apathy: faith is fully God’s work and fully our participation. Discover what it means to live with responsibility without anxiety — trusting that the God who plants the vineyard will bring the final harvest in His time. \n📖 Scripture: Philippians 1:1-11\n📚 Series: Joy in All Things \nPastor Tyler is preaching a series\, Songs in a Strange Land – the Book of Daniel. The title comes from Psalm 137\, where God’s people asked\, “How can we sing the LORD’s song in a foreign land?” It’s a question that still resonates with us: how do we stay faithful and hopeful in a world that doesn’t always share our values? \nWatch us live Sundays at 9:30 AM on Facebook.\nMissed the Live Stream? Watch past messages here.
URL:https://grace-hill.org/event/sunday-worship-service-11
LOCATION:Sanctuary\, 16970 DeWitt Avenue\, Morgan Hill\, California
CATEGORIES:Services
END:VEVENT
END:VCALENDAR