BEGIN:VCALENDAR
VERSION:2.0
PRODID:-//Grace Hill Church - ECPv6.15.20//NONSGML v1.0//EN
CALSCALE:GREGORIAN
METHOD:PUBLISH
X-WR-CALNAME:Grace Hill Church
X-ORIGINAL-URL:https://grace-hill.org
X-WR-CALDESC:Events for Grace Hill Church
REFRESH-INTERVAL;VALUE=DURATION:PT1H
X-Robots-Tag:noindex
X-PUBLISHED-TTL:PT1H
BEGIN:VTIMEZONE
TZID:America/Los_Angeles
BEGIN:DAYLIGHT
TZOFFSETFROM:-0800
TZOFFSETTO:-0700
TZNAME:PDT
DTSTART:20250309T100000
END:DAYLIGHT
BEGIN:STANDARD
TZOFFSETFROM:-0700
TZOFFSETTO:-0800
TZNAME:PST
DTSTART:20251102T090000
END:STANDARD
BEGIN:DAYLIGHT
TZOFFSETFROM:-0800
TZOFFSETTO:-0700
TZNAME:PDT
DTSTART:20260308T100000
END:DAYLIGHT
BEGIN:STANDARD
TZOFFSETFROM:-0700
TZOFFSETTO:-0800
TZNAME:PST
DTSTART:20261101T090000
END:STANDARD
BEGIN:DAYLIGHT
TZOFFSETFROM:-0800
TZOFFSETTO:-0700
TZNAME:PDT
DTSTART:20270314T100000
END:DAYLIGHT
BEGIN:STANDARD
TZOFFSETFROM:-0700
TZOFFSETTO:-0800
TZNAME:PST
DTSTART:20271107T090000
END:STANDARD
END:VTIMEZONE
BEGIN:VEVENT
DTSTART;TZID=America/Los_Angeles:20260402T093000
DTEND;TZID=America/Los_Angeles:20260402T110000
DTSTAMP:20260423T143013
CREATED:20260227T125542Z
LAST-MODIFIED:20260227T125542Z
UID:1902-1775122200-1775127600@grace-hill.org
SUMMARY:Women's Bible Study
DESCRIPTION:The Grace Hill Church Women’s Bible Study invites you to join them in person or on Zoom\, Thursday mornings from 9:30 – 11:00 AM.  They are studying Galatians with an emphasis on The Fruit Of The Spirit.  For more information\, don’t hesitate to contact Janet Howaniec or Jill McClaughry using our contact form.
URL:https://grace-hill.org/event/womens-bible-study-26
LOCATION:Conference Room\, 16970 DeWitt Avenue\, Morgan Hiil\, California
CATEGORIES:Women's Ministry
END:VEVENT
END:VCALENDAR