BEGIN:VCALENDAR
VERSION:2.0
PRODID:-//Grace Hill Church - ECPv6.15.20//NONSGML v1.0//EN
CALSCALE:GREGORIAN
METHOD:PUBLISH
X-ORIGINAL-URL:https://grace-hill.org
X-WR-CALDESC:Events for Grace Hill Church
REFRESH-INTERVAL;VALUE=DURATION:PT1H
X-Robots-Tag:noindex
X-PUBLISHED-TTL:PT1H
BEGIN:VTIMEZONE
TZID:America/Los_Angeles
BEGIN:DAYLIGHT
TZOFFSETFROM:-0800
TZOFFSETTO:-0700
TZNAME:PDT
DTSTART:20250309T100000
END:DAYLIGHT
BEGIN:STANDARD
TZOFFSETFROM:-0700
TZOFFSETTO:-0800
TZNAME:PST
DTSTART:20251102T090000
END:STANDARD
BEGIN:DAYLIGHT
TZOFFSETFROM:-0800
TZOFFSETTO:-0700
TZNAME:PDT
DTSTART:20260308T100000
END:DAYLIGHT
BEGIN:STANDARD
TZOFFSETFROM:-0700
TZOFFSETTO:-0800
TZNAME:PST
DTSTART:20261101T090000
END:STANDARD
BEGIN:DAYLIGHT
TZOFFSETFROM:-0800
TZOFFSETTO:-0700
TZNAME:PDT
DTSTART:20270314T100000
END:DAYLIGHT
BEGIN:STANDARD
TZOFFSETFROM:-0700
TZOFFSETTO:-0800
TZNAME:PST
DTSTART:20271107T090000
END:STANDARD
END:VTIMEZONE
BEGIN:VEVENT
DTSTART;TZID=America/Los_Angeles:20260423T093000
DTEND;TZID=America/Los_Angeles:20260423T110000
DTSTAMP:20260423T072517
CREATED:20260331T220850Z
LAST-MODIFIED:20260331T220850Z
UID:1940-1776936600-1776942000@grace-hill.org
SUMMARY:Women's Bible Study
DESCRIPTION:The Grace Hill Church Women’s Bible Study invites you to join them in person or on Zoom\, Thursday mornings from 9:30 – 11:00 AM.  They are studying Galatians with an emphasis on The Fruit Of The Spirit.  For more information\, don’t hesitate to contact Janet Howaniec or Jill McClaughry using our contact form.
URL:https://grace-hill.org/event/womens-bible-study-27
LOCATION:Conference Room\, 16970 DeWitt Avenue\, Morgan Hiil\, California
CATEGORIES:Women's Ministry
END:VEVENT
BEGIN:VEVENT
DTSTART;TZID=America/Los_Angeles:20260426T093000
DTEND;TZID=America/Los_Angeles:20260426T103000
DTSTAMP:20260423T072517
CREATED:20260420T140543Z
LAST-MODIFIED:20260420T140543Z
UID:1975-1777195800-1777199400@grace-hill.org
SUMMARY:Sunday Worship Service
DESCRIPTION:Join us for a spirited worship service and hear a powerful teaching sermon. \nWatch us live Sundays at 9:30 AM on Facebook.\nMissed the Live Stream? Watch past messages here.
URL:https://grace-hill.org/event/sunday-worship-service-6
LOCATION:Sanctuary\, 16970 DeWitt Avenue\, Morgan Hill\, California
CATEGORIES:Services
END:VEVENT
BEGIN:VEVENT
DTSTART;TZID=America/Los_Angeles:20260426T110000
DTEND;TZID=America/Los_Angeles:20260426T130000
DTSTAMP:20260423T072517
CREATED:20260422T185003Z
LAST-MODIFIED:20260422T185016Z
UID:1982-1777201200-1777208400@grace-hill.org
SUMMARY:Fellowship Potluck Lunch
DESCRIPTION:Join our next all-church potluck on Sunday\, April 26\, following our Sunday Worship Service. Caution: Attendance may result in full plates\, new friendships\, and asking for recipes you’ll never quite get right.  So come gather around the table\, share a meal\, laughter\, and good company. \nDATE / TIME: Sunday\, April 26 – “11-12 ish” (following the Worship Service).\nWHERE: Grace Hill Church Fellowship Hall\nBRING: A dish to share.  If you can’t prepare something\, a store-bought item is fine. If you’re not able to do either\, PLEASE COME ANYWAY … do not let time or expense keep you from gathering around a table with your GHC family. ALL ARE WELCOME! \nDrop off your food in the Fellowship Hall kitchen before the morning worship service. There are electric outlets for crockpots and a large warming plate on top of the stove if you want to keep something warm. Coffee\, tea\, and water will be provided (or BYO if you prefer a favorite beverage). \nNOTE: Childcare is not available; however\, parents are welcome to bring children of any age\, so long as they assume responsibility to supervise and care for their young ones \nFor more information\, don’t hesitate to contact Joe or Pat Fabiny using our contact form.
URL:https://grace-hill.org/event/fellowshio-potluck-lunch
LOCATION:Fellowship Hall\, 16970 DeWitt Avenue\, Morgan Hill\, California
CATEGORIES:Adult Fellowship
END:VEVENT
BEGIN:VEVENT
DTSTART;TZID=America/Los_Angeles:20260429T070000
DTEND;TZID=America/Los_Angeles:20260429T080000
DTSTAMP:20260423T072517
CREATED:20260331T220534Z
LAST-MODIFIED:20260331T220534Z
UID:1933-1777446000-1777449600@grace-hill.org
SUMMARY:Men's Bible Study
DESCRIPTION:The Grace Hill Church’s Men’s Bible Study invites you to join them in a Zoom meeting on Wednesday mornings from 7:00 – 8:00 AM.  The group is currently studying the book of Romans. For more information or for the Zoom link\, contact Mark Markham using our contact form.
URL:https://grace-hill.org/event/mens-bible-study-32
LOCATION:Zoom Meeting
CATEGORIES:Men's Ministry
END:VEVENT
BEGIN:VEVENT
DTSTART;TZID=America/Los_Angeles:20260429T100000
DTEND;TZID=America/Los_Angeles:20260429T113000
DTSTAMP:20260423T072517
CREATED:20260331T221619Z
LAST-MODIFIED:20260331T221619Z
UID:1954-1777456800-1777462200@grace-hill.org
SUMMARY:Inductive Bible Study
DESCRIPTION:Join us for our midweek Inductive Bible Study\, where we examine the Bible\, emphasize and observe the text\, interpret its meaning\, and apply it to our lives. \nCurrently\, we are studying the book of Genesis – “In the Beginning: Finding Our Story in God’s Story.” A Journey from Eden to Egypt\, discovering how Genesis reshapes our lives today. Genesis is not only the first book in our Bible; it’s the foundation of all our stories. We will explore how this ancient text continues to resonate with our lives today. \nWhy are we here?\nWhat does it mean to be human?\nDoes God work through the mess of life? \nFrom Eden to Egypt\, we’ll trace the deep storyline that ultimately leads us to Christ—and helps us make sense of our own story along the way. \nWhether you’ve read Genesis a dozen times or never opened it\, this will be a space to grow\, ask big questions\, and be reminded that God’s story is still unfolding. \nWhether you’re brand new to Bible study or have been studying Scripture for decades\, this is a space for you. Bring your questions\, your story\, and your desire to grow in faith—we’ll learn together in community and prayer. Feel free to bring a friend or neighbor along! ALL ARE WELCOME!
URL:https://grace-hill.org/event/inductive-bible-study-14
LOCATION:Fellowship Hall\, 16970 DeWitt Avenue\, Morgan Hill\, California
CATEGORIES:Inductive Bible Study
END:VEVENT
BEGIN:VEVENT
DTSTART;TZID=America/Los_Angeles:20260430T093000
DTEND;TZID=America/Los_Angeles:20260430T110000
DTSTAMP:20260423T072517
CREATED:20260331T220939Z
LAST-MODIFIED:20260331T220939Z
UID:1942-1777541400-1777546800@grace-hill.org
SUMMARY:Women's Bible Study
DESCRIPTION:The Grace Hill Church Women’s Bible Study invites you to join them in person or on Zoom\, Thursday mornings from 9:30 – 11:00 AM.  They are studying Galatians with an emphasis on The Fruit Of The Spirit.  For more information\, don’t hesitate to contact Janet Howaniec or Jill McClaughry using our contact form.
URL:https://grace-hill.org/event/womens-bible-study-28
LOCATION:Conference Room\, 16970 DeWitt Avenue\, Morgan Hiil\, California
CATEGORIES:Women's Ministry
END:VEVENT
BEGIN:VEVENT
DTSTART;TZID=America/Los_Angeles:20260502T100000
DTEND;TZID=America/Los_Angeles:20260502T130000
DTSTAMP:20260423T072517
CREATED:20260422T190936Z
LAST-MODIFIED:20260422T190936Z
UID:1996-1777716000-1777726800@grace-hill.org
SUMMARY:Mother's Tea and Brunch
DESCRIPTION:Join us Saturday\, May 2\, 2026 for a warm and meaningful gathering as we honor moms\, a time to slow down\, share stories\, laugh together\, and celebrate the beauty of motherhood. \nBring a photo of your mom or a photo of you as a mom as we reflect\, connect\, and enjoy a lovely morning together. \nJoin us for a meaningful time of devotion\, table games\, and songs. \n\n\nWHEN:\nSaturday\, May 2\, 2026\nAt 10:00 AM – 1:00 PM \n\n\nWHERE:\nGrace Hill’s\nFellowship Hall \n\n\n$10/person – Please pay in advance to Marilyn\, Susie\, Jane M.\, Jill M.\, Lisa O.\, or Lois. \nFor more information\, use our contact form.
URL:https://grace-hill.org/event/mothers-tea-and-brunch
LOCATION:Fellowship Hall\, 16970 DeWitt Avenue\, Morgan Hill\, California
CATEGORIES:Women's Ministry
END:VEVENT
BEGIN:VEVENT
DTSTART;TZID=America/Los_Angeles:20260503T093000
DTEND;TZID=America/Los_Angeles:20260503T103000
DTSTAMP:20260423T072517
CREATED:20260420T140747Z
LAST-MODIFIED:20260420T140748Z
UID:1978-1777800600-1777804200@grace-hill.org
SUMMARY:Sunday Worship Service
DESCRIPTION:Join us for a spirited worship service and hear a powerful teaching sermon. \nWatch us live Sundays at 9:30 AM on Facebook.\nMissed the Live Stream? Watch past messages here.
URL:https://grace-hill.org/event/sunday-worship-service-7
LOCATION:Sanctuary\, 16970 DeWitt Avenue\, Morgan Hill\, California
CATEGORIES:Services
END:VEVENT
BEGIN:VEVENT
DTSTART;TZID=America/Los_Angeles:20260512T120000
DTEND;TZID=America/Los_Angeles:20260512T140000
DTSTAMP:20260423T072517
CREATED:20260422T191303Z
LAST-MODIFIED:20260422T191303Z
UID:1999-1778587200-1778594400@grace-hill.org
SUMMARY:Garden Party Lunch
DESCRIPTION:Come to a Garden Party\, Tuesday\, May 12th\, for a special lunch as we honor The Master Gardener and dedicate our beautiful garden spaces.  RSVP to Nancy Wolfred using our contact form\,
URL:https://grace-hill.org/event/garden-party-lunch
LOCATION:Sanctuary Patio\, 16970 DeWitt Avenue\, Morgan Hill\, CA\, 95037\, United States
CATEGORIES:Other
END:VEVENT
END:VCALENDAR