BEGIN:VCALENDAR
VERSION:2.0
PRODID:-//Grace Hill Church - ECPv6.15.20//NONSGML v1.0//EN
CALSCALE:GREGORIAN
METHOD:PUBLISH
X-ORIGINAL-URL:https://grace-hill.org
X-WR-CALDESC:Events for Grace Hill Church
REFRESH-INTERVAL;VALUE=DURATION:PT1H
X-Robots-Tag:noindex
X-PUBLISHED-TTL:PT1H
BEGIN:VTIMEZONE
TZID:America/Los_Angeles
BEGIN:DAYLIGHT
TZOFFSETFROM:-0800
TZOFFSETTO:-0700
TZNAME:PDT
DTSTART:20250309T100000
END:DAYLIGHT
BEGIN:STANDARD
TZOFFSETFROM:-0700
TZOFFSETTO:-0800
TZNAME:PST
DTSTART:20251102T090000
END:STANDARD
BEGIN:DAYLIGHT
TZOFFSETFROM:-0800
TZOFFSETTO:-0700
TZNAME:PDT
DTSTART:20260308T100000
END:DAYLIGHT
BEGIN:STANDARD
TZOFFSETFROM:-0700
TZOFFSETTO:-0800
TZNAME:PST
DTSTART:20261101T090000
END:STANDARD
BEGIN:DAYLIGHT
TZOFFSETFROM:-0800
TZOFFSETTO:-0700
TZNAME:PDT
DTSTART:20270314T100000
END:DAYLIGHT
BEGIN:STANDARD
TZOFFSETFROM:-0700
TZOFFSETTO:-0800
TZNAME:PST
DTSTART:20271107T090000
END:STANDARD
END:VTIMEZONE
BEGIN:VEVENT
DTSTART;TZID=America/Los_Angeles:20260222T080000
DTEND;TZID=America/Los_Angeles:20260222T170000
DTSTAMP:20260423T164225
CREATED:20260201T133607Z
LAST-MODIFIED:20260201T133608Z
UID:1813-1771747200-1771779600@grace-hill.org
SUMMARY:Sunday Worship Service
DESCRIPTION:Join us for a spirited worship service and hear a powerful teaching sermon. \nWatch us live Sundays at 9:30 AM on Facebook.\nMissed the Live Stream? Watch past messages here.
URL:https://grace-hill.org/event/sunday-worship-service-28
LOCATION:Sanctuary\, 16970 DeWitt Avenue\, Morgan Hill\, California
CATEGORIES:Services
END:VEVENT
BEGIN:VEVENT
DTSTART;TZID=America/Los_Angeles:20260225T080000
DTEND;TZID=America/Los_Angeles:20260225T170000
DTSTAMP:20260423T164225
CREATED:20260201T134117Z
LAST-MODIFIED:20260201T134117Z
UID:1822-1772006400-1772038800@grace-hill.org
SUMMARY:Men's Bible Study
DESCRIPTION:The Grace Hill Church’s Men’s Bible Study invites you to join them in a Zoom meeting on Wednesday mornings from 7:00 – 8:00 AM.  The group is currently studying the book of Romans. For more information or for the Zoom link\, contact Mark Markham using our contact form.
URL:https://grace-hill.org/event/mens-bible-study-27
LOCATION:Zoom Meeting
CATEGORIES:Men's Ministry
END:VEVENT
BEGIN:VEVENT
DTSTART;TZID=America/Los_Angeles:20260225T100000
DTEND;TZID=America/Los_Angeles:20260225T113000
DTSTAMP:20260423T164225
CREATED:20260201T134439Z
LAST-MODIFIED:20260201T134439Z
UID:1828-1772013600-1772019000@grace-hill.org
SUMMARY:Inductive Bible Study
DESCRIPTION:Join us for our midweek Inductive Bible Study\, where we examine the Bible\, emphasizing and observing the text\, interpreting its meaning\, and applying it to our lives. \nCurrently\, we are studying  the book of Genesis called “In the Beginning: Finding Our Story in God’s Story.” A Journey from Eden to Egypt\, discovering how Genesis reshapes our lives today. Genesis is not only the first book in our Bible; it’s the foundation of all our stories. We will explore how this ancient text continues to resonate with our lives today. \nWhy are we here?\nWhat does it mean to be human?\nDoes God work through the mess of life? \nFrom Eden to Egypt\, we’ll trace the deep storyline that ultimately leads us to Christ—and helps us make sense of our own story along the way. \nWhether you’ve read Genesis a dozen times or never opened it\, this will be a space to grow\, ask big questions\, and be reminded that God’s story is still unfolding. \nWhether you’re brand new to Bible study or have been studying Scripture for decades\, this is a space for you. Bring your questions\, your story\, and your desire to grow in faith—we’ll learn together in community and prayer. Feel free to bring a friend or neighbor along! ALL ARE WELCOME!
URL:https://grace-hill.org/event/inductive-bible-study-5
LOCATION:Fellowship Hall\, 16970 DeWitt Avenue\, Morgan Hill\, California
CATEGORIES:Inductive Bible Study
END:VEVENT
BEGIN:VEVENT
DTSTART;TZID=America/Los_Angeles:20260226T093000
DTEND;TZID=America/Los_Angeles:20260226T110000
DTSTAMP:20260423T164225
CREATED:20260201T134916Z
LAST-MODIFIED:20260201T134916Z
UID:1838-1772098200-1772103600@grace-hill.org
SUMMARY:Women's Bible Study
DESCRIPTION:The Grace Hill Church Women’s Bible Study invites you to join them in person or on Zoom\, Thursday mornings from 9:30 – 11:00 AM.  They are studying Galatians with an emphasis on The Fruit Of The Spirit.  For more information\, don’t hesitate to contact Janet Howaniec or Jill McClaughry using our contact form.
URL:https://grace-hill.org/event/womens-bible-study-21
LOCATION:Conference Room\, 16970 DeWitt Avenue\, Morgan Hiil\, California
CATEGORIES:Women's Ministry
END:VEVENT
BEGIN:VEVENT
DTSTART;TZID=America/Los_Angeles:20260228T080000
DTEND;TZID=America/Los_Angeles:20260228T090000
DTSTAMP:20260423T164225
CREATED:20260219T103638Z
LAST-MODIFIED:20260219T103638Z
UID:1867-1772265600-1772269200@grace-hill.org
SUMMARY:Men's Breakfast
DESCRIPTION:Join the men of Grace Hill Church for Food\, Fellowship\, and Faith. \nRSVP\, $5 per person\, and invite a friend. Friends and first timers FREE.
URL:https://grace-hill.org/event/mens-breakfast
LOCATION:Fellowship Hall\, 16970 DeWitt Avenue\, Morgan Hill\, California
CATEGORIES:Men's Ministry
END:VEVENT
BEGIN:VEVENT
DTSTART;TZID=America/Los_Angeles:20260301T093000
DTEND;TZID=America/Los_Angeles:20260301T103000
DTSTAMP:20260423T164225
CREATED:20260227T125732Z
LAST-MODIFIED:20260227T125732Z
UID:1905-1772357400-1772361000@grace-hill.org
SUMMARY:Sunday Worship Service
DESCRIPTION:Join us for a spirited worship service and hear a powerful teaching sermon. \nWatch us live Sundays at 9:30 AM on Facebook.\nMissed the Live Stream? Watch past messages here.
URL:https://grace-hill.org/event/sunday-worship-service
LOCATION:Sanctuary\, 16970 DeWitt Avenue\, Morgan Hill\, California
CATEGORIES:Services
END:VEVENT
BEGIN:VEVENT
DTSTART;TZID=America/Los_Angeles:20260304T070000
DTEND;TZID=America/Los_Angeles:20260304T080000
DTSTAMP:20260423T164225
CREATED:20260227T124220Z
LAST-MODIFIED:20260227T124220Z
UID:1873-1772607600-1772611200@grace-hill.org
SUMMARY:Men's Bible Study
DESCRIPTION:The Grace Hill Church’s Men’s Bible Study invites you to join them in a Zoom meeting on Wednesday mornings from 7:00 – 8:00 AM.  The group is currently studying the book of Romans. For more information or for the Zoom link\, contact Mark Markham using our contact form.
URL:https://grace-hill.org/event/mens-bible-study-15
LOCATION:Zoom Meeting
CATEGORIES:Men's Ministry
END:VEVENT
BEGIN:VEVENT
DTSTART;TZID=America/Los_Angeles:20260304T100000
DTEND;TZID=America/Los_Angeles:20260304T113000
DTSTAMP:20260423T164225
CREATED:20260227T124752Z
LAST-MODIFIED:20260227T124752Z
UID:1883-1772618400-1772623800@grace-hill.org
SUMMARY:Inductive Bible Study
DESCRIPTION:Join us for our midweek Inductive Bible Study\, where we examine the Bible\, emphasize and observe the text\, interpret its meaning\, and apply it to our lives. \nCurrently\, we are studying the book of Genesis – “In the Beginning: Finding Our Story in God’s Story.” A Journey from Eden to Egypt\, discovering how Genesis reshapes our lives today. Genesis is not only the first book in our Bible; it’s the foundation of all our stories. We will explore how this ancient text continues to resonate with our lives today. \nWhy are we here?\nWhat does it mean to be human?\nDoes God work through the mess of life? \nFrom Eden to Egypt\, we’ll trace the deep storyline that ultimately leads us to Christ—and helps us make sense of our own story along the way. \nWhether you’ve read Genesis a dozen times or never opened it\, this will be a space to grow\, ask big questions\, and be reminded that God’s story is still unfolding. \nWhether you’re brand new to Bible study or have been studying Scripture for decades\, this is a space for you. Bring your questions\, your story\, and your desire to grow in faith—we’ll learn together in community and prayer. Feel free to bring a friend or neighbor along! ALL ARE WELCOME!
URL:https://grace-hill.org/event/inductive-bible-study-3
LOCATION:Fellowship Hall\, 16970 DeWitt Avenue\, Morgan Hill\, California
CATEGORIES:Inductive Bible Study
END:VEVENT
BEGIN:VEVENT
DTSTART;TZID=America/Los_Angeles:20260305T093000
DTEND;TZID=America/Los_Angeles:20260305T110000
DTSTAMP:20260423T164225
CREATED:20260227T125242Z
LAST-MODIFIED:20260227T125242Z
UID:1894-1772703000-1772708400@grace-hill.org
SUMMARY:Women's Bible Study
DESCRIPTION:The Grace Hill Church Women’s Bible Study invites you to join them in person or on Zoom\, Thursday mornings from 9:30 – 11:00 AM.  They are studying Galatians with an emphasis on The Fruit Of The Spirit.  For more information\, don’t hesitate to contact Janet Howaniec or Jill McClaughry using our contact form.
URL:https://grace-hill.org/event/womens-bible-study-22
LOCATION:Conference Room\, 16970 DeWitt Avenue\, Morgan Hiil\, California
CATEGORIES:Women's Ministry
END:VEVENT
BEGIN:VEVENT
DTSTART;TZID=America/Los_Angeles:20260308T093000
DTEND;TZID=America/Los_Angeles:20260308T103000
DTSTAMP:20260423T164225
CREATED:20260227T125820Z
LAST-MODIFIED:20260227T125820Z
UID:1907-1772962200-1772965800@grace-hill.org
SUMMARY:Sunday Worship Service
DESCRIPTION:Join us for a spirited worship service and hear a powerful teaching sermon. \nWatch us live Sundays at 9:30 AM on Facebook.\nMissed the Live Stream? Watch past messages here.
URL:https://grace-hill.org/event/sunday-worship-service-2
LOCATION:Sanctuary\, 16970 DeWitt Avenue\, Morgan Hill\, California
CATEGORIES:Services
END:VEVENT
BEGIN:VEVENT
DTSTART;TZID=America/Los_Angeles:20260311T070000
DTEND;TZID=America/Los_Angeles:20260311T080000
DTSTAMP:20260423T164225
CREATED:20260227T124303Z
LAST-MODIFIED:20260227T124303Z
UID:1875-1773212400-1773216000@grace-hill.org
SUMMARY:Men's Bible Study
DESCRIPTION:The Grace Hill Church’s Men’s Bible Study invites you to join them in a Zoom meeting on Wednesday mornings from 7:00 – 8:00 AM.  The group is currently studying the book of Romans. For more information or for the Zoom link\, contact Mark Markham using our contact form.
URL:https://grace-hill.org/event/mens-bible-study-16
LOCATION:Zoom Meeting
CATEGORIES:Men's Ministry
END:VEVENT
BEGIN:VEVENT
DTSTART;TZID=America/Los_Angeles:20260311T100000
DTEND;TZID=America/Los_Angeles:20260311T113000
DTSTAMP:20260423T164225
CREATED:20260227T124836Z
LAST-MODIFIED:20260227T124836Z
UID:1885-1773223200-1773228600@grace-hill.org
SUMMARY:Inductive Bible Study
DESCRIPTION:Join us for our midweek Inductive Bible Study\, where we examine the Bible\, emphasize and observe the text\, interpret its meaning\, and apply it to our lives. \nCurrently\, we are studying the book of Genesis – “In the Beginning: Finding Our Story in God’s Story.” A Journey from Eden to Egypt\, discovering how Genesis reshapes our lives today. Genesis is not only the first book in our Bible; it’s the foundation of all our stories. We will explore how this ancient text continues to resonate with our lives today. \nWhy are we here?\nWhat does it mean to be human?\nDoes God work through the mess of life? \nFrom Eden to Egypt\, we’ll trace the deep storyline that ultimately leads us to Christ—and helps us make sense of our own story along the way. \nWhether you’ve read Genesis a dozen times or never opened it\, this will be a space to grow\, ask big questions\, and be reminded that God’s story is still unfolding. \nWhether you’re brand new to Bible study or have been studying Scripture for decades\, this is a space for you. Bring your questions\, your story\, and your desire to grow in faith—we’ll learn together in community and prayer. Feel free to bring a friend or neighbor along! ALL ARE WELCOME!
URL:https://grace-hill.org/event/inductive-bible-study-7
LOCATION:Fellowship Hall\, 16970 DeWitt Avenue\, Morgan Hill\, California
CATEGORIES:Inductive Bible Study
END:VEVENT
BEGIN:VEVENT
DTSTART;TZID=America/Los_Angeles:20260312T093000
DTEND;TZID=America/Los_Angeles:20260312T110000
DTSTAMP:20260423T164225
CREATED:20260227T125325Z
LAST-MODIFIED:20260227T125325Z
UID:1896-1773307800-1773313200@grace-hill.org
SUMMARY:Women's Bible Study
DESCRIPTION:The Grace Hill Church Women’s Bible Study invites you to join them in person or on Zoom\, Thursday mornings from 9:30 – 11:00 AM.  They are studying Galatians with an emphasis on The Fruit Of The Spirit.  For more information\, don’t hesitate to contact Janet Howaniec or Jill McClaughry using our contact form.
URL:https://grace-hill.org/event/womens-bible-study-23
LOCATION:Conference Room\, 16970 DeWitt Avenue\, Morgan Hiil\, California
CATEGORIES:Women's Ministry
END:VEVENT
BEGIN:VEVENT
DTSTART;TZID=America/Los_Angeles:20260315T093000
DTEND;TZID=America/Los_Angeles:20260315T103000
DTSTAMP:20260423T164225
CREATED:20260227T125912Z
LAST-MODIFIED:20260227T125912Z
UID:1909-1773567000-1773570600@grace-hill.org
SUMMARY:Sunday Worship Service
DESCRIPTION:Join us for a spirited worship service and hear a powerful teaching sermon. \nWatch us live Sundays at 9:30 AM on Facebook.\nMissed the Live Stream? Watch past messages here.
URL:https://grace-hill.org/event/sunday-worship-service-3
LOCATION:Sanctuary\, 16970 DeWitt Avenue\, Morgan Hill\, California
CATEGORIES:Services
END:VEVENT
BEGIN:VEVENT
DTSTART;TZID=America/Los_Angeles:20260315T110000
DTEND;TZID=America/Los_Angeles:20260315T130000
DTSTAMP:20260423T164225
CREATED:20260219T104024Z
LAST-MODIFIED:20260219T104315Z
UID:1870-1773572400-1773579600@grace-hill.org
SUMMARY:Fellowship Potluck Brunch
DESCRIPTION:Spring is almost here\, and we would love to gather together.  Join our next all-church potluck on March 15th\, following our Sunday Worship Service. Join us as we share good food and fellowship with our Grace Hill family.  We’d love to see you there! \nDATE / TIME: Sunday\, March 15 – “11-12 ish” (following the Worship Service).\nWHERE: Grace Hill Church Fellowship Hall\nBRING: A dish to share.  If you can’t prepare something\, a store-bought item is fine. If you’re not able to do either\, PLEASE COME ANYWAY … do not let time or expense keep you from gathering around a table with your GHC family. ALL ARE WELCOME! \nDrop off your food in the Fellowship Hall kitchen before the morning worship service. There are electric outlets for crockpots and a large warming plate on top of the stove if you want to keep something warm. Coffee\, tea\, and water will be provided (or BYO if you prefer a favorite beverage). \nNOTE: Childcare is not available; however\, parents are welcome to bring children of any age\, so long as they assume responsibility to supervise and care for their young ones \nFor more information\, don’t hesitate to contact Joe or Pat Fabiny using our contact form.
URL:https://grace-hill.org/event/fellowship-potluck-brunch
LOCATION:Fellowship Hall\, 16970 DeWitt Avenue\, Morgan Hill\, California
CATEGORIES:Adult Fellowship
END:VEVENT
BEGIN:VEVENT
DTSTART;TZID=America/Los_Angeles:20260318T070000
DTEND;TZID=America/Los_Angeles:20260318T080000
DTSTAMP:20260423T164225
CREATED:20260227T124347Z
LAST-MODIFIED:20260227T124347Z
UID:1877-1773817200-1773820800@grace-hill.org
SUMMARY:Men's Bible Study
DESCRIPTION:The Grace Hill Church’s Men’s Bible Study invites you to join them in a Zoom meeting on Wednesday mornings from 7:00 – 8:00 AM.  The group is currently studying the book of Romans. For more information or for the Zoom link\, contact Mark Markham using our contact form.
URL:https://grace-hill.org/event/mens-bible-study-17
LOCATION:Zoom Meeting
CATEGORIES:Men's Ministry
END:VEVENT
BEGIN:VEVENT
DTSTART;TZID=America/Los_Angeles:20260318T100000
DTEND;TZID=America/Los_Angeles:20260318T113000
DTSTAMP:20260423T164225
CREATED:20260227T124919Z
LAST-MODIFIED:20260227T124919Z
UID:1887-1773828000-1773833400@grace-hill.org
SUMMARY:Inductive Bible Study
DESCRIPTION:Join us for our midweek Inductive Bible Study\, where we examine the Bible\, emphasize and observe the text\, interpret its meaning\, and apply it to our lives. \nCurrently\, we are studying the book of Genesis – “In the Beginning: Finding Our Story in God’s Story.” A Journey from Eden to Egypt\, discovering how Genesis reshapes our lives today. Genesis is not only the first book in our Bible; it’s the foundation of all our stories. We will explore how this ancient text continues to resonate with our lives today. \nWhy are we here?\nWhat does it mean to be human?\nDoes God work through the mess of life? \nFrom Eden to Egypt\, we’ll trace the deep storyline that ultimately leads us to Christ—and helps us make sense of our own story along the way. \nWhether you’ve read Genesis a dozen times or never opened it\, this will be a space to grow\, ask big questions\, and be reminded that God’s story is still unfolding. \nWhether you’re brand new to Bible study or have been studying Scripture for decades\, this is a space for you. Bring your questions\, your story\, and your desire to grow in faith—we’ll learn together in community and prayer. Feel free to bring a friend or neighbor along! ALL ARE WELCOME!
URL:https://grace-hill.org/event/inductive-bible-study-8
LOCATION:Fellowship Hall\, 16970 DeWitt Avenue\, Morgan Hill\, California
CATEGORIES:Inductive Bible Study
END:VEVENT
BEGIN:VEVENT
DTSTART;TZID=America/Los_Angeles:20260319T093000
DTEND;TZID=America/Los_Angeles:20260319T110000
DTSTAMP:20260423T164225
CREATED:20260227T125414Z
LAST-MODIFIED:20260227T125414Z
UID:1898-1773912600-1773918000@grace-hill.org
SUMMARY:Women's Bible Study
DESCRIPTION:The Grace Hill Church Women’s Bible Study invites you to join them in person or on Zoom\, Thursday mornings from 9:30 – 11:00 AM.  They are studying Galatians with an emphasis on The Fruit Of The Spirit.  For more information\, don’t hesitate to contact Janet Howaniec or Jill McClaughry using our contact form.
URL:https://grace-hill.org/event/womens-bible-study-24
LOCATION:Conference Room\, 16970 DeWitt Avenue\, Morgan Hiil\, California
CATEGORIES:Women's Ministry
END:VEVENT
BEGIN:VEVENT
DTSTART;TZID=America/Los_Angeles:20260322T093000
DTEND;TZID=America/Los_Angeles:20260322T103000
DTSTAMP:20260423T164225
CREATED:20260227T125957Z
LAST-MODIFIED:20260227T125957Z
UID:1911-1774171800-1774175400@grace-hill.org
SUMMARY:Sunday Worship Service
DESCRIPTION:Join us for a spirited worship service and hear a powerful teaching sermon. \nWatch us live Sundays at 9:30 AM on Facebook.\nMissed the Live Stream? Watch past messages here.
URL:https://grace-hill.org/event/sunday-worship-service-8
LOCATION:Sanctuary\, 16970 DeWitt Avenue\, Morgan Hill\, California
CATEGORIES:Services
END:VEVENT
BEGIN:VEVENT
DTSTART;TZID=America/Los_Angeles:20260325T070000
DTEND;TZID=America/Los_Angeles:20260325T080000
DTSTAMP:20260423T164225
CREATED:20260227T124427Z
LAST-MODIFIED:20260227T124427Z
UID:1879-1774422000-1774425600@grace-hill.org
SUMMARY:Men's Bible Study
DESCRIPTION:The Grace Hill Church’s Men’s Bible Study invites you to join them in a Zoom meeting on Wednesday mornings from 7:00 – 8:00 AM.  The group is currently studying the book of Romans. For more information or for the Zoom link\, contact Mark Markham using our contact form.
URL:https://grace-hill.org/event/mens-bible-study-28
LOCATION:Zoom Meeting
CATEGORIES:Men's Ministry
END:VEVENT
BEGIN:VEVENT
DTSTART;TZID=America/Los_Angeles:20260325T100000
DTEND;TZID=America/Los_Angeles:20260325T113000
DTSTAMP:20260423T164225
CREATED:20260227T125000Z
LAST-MODIFIED:20260227T125000Z
UID:1889-1774432800-1774438200@grace-hill.org
SUMMARY:Inductive Bible Study
DESCRIPTION:Join us for our midweek Inductive Bible Study\, where we examine the Bible\, emphasize and observe the text\, interpret its meaning\, and apply it to our lives. \nCurrently\, we are studying the book of Genesis – “In the Beginning: Finding Our Story in God’s Story.” A Journey from Eden to Egypt\, discovering how Genesis reshapes our lives today. Genesis is not only the first book in our Bible; it’s the foundation of all our stories. We will explore how this ancient text continues to resonate with our lives today. \nWhy are we here?\nWhat does it mean to be human?\nDoes God work through the mess of life? \nFrom Eden to Egypt\, we’ll trace the deep storyline that ultimately leads us to Christ—and helps us make sense of our own story along the way. \nWhether you’ve read Genesis a dozen times or never opened it\, this will be a space to grow\, ask big questions\, and be reminded that God’s story is still unfolding. \nWhether you’re brand new to Bible study or have been studying Scripture for decades\, this is a space for you. Bring your questions\, your story\, and your desire to grow in faith—we’ll learn together in community and prayer. Feel free to bring a friend or neighbor along! ALL ARE WELCOME!
URL:https://grace-hill.org/event/inductive-bible-study-9
LOCATION:Fellowship Hall\, 16970 DeWitt Avenue\, Morgan Hill\, California
CATEGORIES:Inductive Bible Study
END:VEVENT
BEGIN:VEVENT
DTSTART;TZID=America/Los_Angeles:20260326T093000
DTEND;TZID=America/Los_Angeles:20260326T110000
DTSTAMP:20260423T164225
CREATED:20260227T125459Z
LAST-MODIFIED:20260227T125459Z
UID:1900-1774517400-1774522800@grace-hill.org
SUMMARY:Women's Bible Study
DESCRIPTION:The Grace Hill Church Women’s Bible Study invites you to join them in person or on Zoom\, Thursday mornings from 9:30 – 11:00 AM.  They are studying Galatians with an emphasis on The Fruit Of The Spirit.  For more information\, don’t hesitate to contact Janet Howaniec or Jill McClaughry using our contact form.
URL:https://grace-hill.org/event/womens-bible-study-25
LOCATION:Conference Room\, 16970 DeWitt Avenue\, Morgan Hiil\, California
CATEGORIES:Women's Ministry
END:VEVENT
BEGIN:VEVENT
DTSTART;TZID=America/Los_Angeles:20260329T093000
DTEND;TZID=America/Los_Angeles:20260329T103000
DTSTAMP:20260423T164225
CREATED:20260227T130041Z
LAST-MODIFIED:20260420T140201Z
UID:1913-1774776600-1774780200@grace-hill.org
SUMMARY:Sunday Worship Services - Palm Sunday
DESCRIPTION:Join us for a spirited worship service and hear a powerful teaching sermon. \nWatch us live Sundays at 9:30 AM on Facebook.\nMissed the Live Stream? Watch past messages here.
URL:https://grace-hill.org/event/sunday-worship-services
LOCATION:Sanctuary\, 16970 DeWitt Avenue\, Morgan Hill\, California
CATEGORIES:Services
END:VEVENT
BEGIN:VEVENT
DTSTART;TZID=America/Los_Angeles:20260401T070000
DTEND;TZID=America/Los_Angeles:20260401T080000
DTSTAMP:20260423T164225
CREATED:20260227T124508Z
LAST-MODIFIED:20260227T124508Z
UID:1881-1775026800-1775030400@grace-hill.org
SUMMARY:Men's Bible Study
DESCRIPTION:The Grace Hill Church’s Men’s Bible Study invites you to join them in a Zoom meeting on Wednesday mornings from 7:00 – 8:00 AM.  The group is currently studying the book of Romans. For more information or for the Zoom link\, contact Mark Markham using our contact form.
URL:https://grace-hill.org/event/mens-bible-study-29
LOCATION:Zoom Meeting
CATEGORIES:Men's Ministry
END:VEVENT
BEGIN:VEVENT
DTSTART;TZID=America/Los_Angeles:20260401T100000
DTEND;TZID=America/Los_Angeles:20260401T113000
DTSTAMP:20260423T164225
CREATED:20260227T125042Z
LAST-MODIFIED:20260227T125042Z
UID:1891-1775037600-1775043000@grace-hill.org
SUMMARY:Inductive Bible Study
DESCRIPTION:Join us for our midweek Inductive Bible Study\, where we examine the Bible\, emphasize and observe the text\, interpret its meaning\, and apply it to our lives. \nCurrently\, we are studying the book of Genesis – “In the Beginning: Finding Our Story in God’s Story.” A Journey from Eden to Egypt\, discovering how Genesis reshapes our lives today. Genesis is not only the first book in our Bible; it’s the foundation of all our stories. We will explore how this ancient text continues to resonate with our lives today. \nWhy are we here?\nWhat does it mean to be human?\nDoes God work through the mess of life? \nFrom Eden to Egypt\, we’ll trace the deep storyline that ultimately leads us to Christ—and helps us make sense of our own story along the way. \nWhether you’ve read Genesis a dozen times or never opened it\, this will be a space to grow\, ask big questions\, and be reminded that God’s story is still unfolding. \nWhether you’re brand new to Bible study or have been studying Scripture for decades\, this is a space for you. Bring your questions\, your story\, and your desire to grow in faith—we’ll learn together in community and prayer. Feel free to bring a friend or neighbor along! ALL ARE WELCOME!
URL:https://grace-hill.org/event/inductive-bible-study-10
LOCATION:Fellowship Hall\, 16970 DeWitt Avenue\, Morgan Hill\, California
CATEGORIES:Inductive Bible Study
END:VEVENT
BEGIN:VEVENT
DTSTART;TZID=America/Los_Angeles:20260402T093000
DTEND;TZID=America/Los_Angeles:20260402T110000
DTSTAMP:20260423T164225
CREATED:20260227T125542Z
LAST-MODIFIED:20260227T125542Z
UID:1902-1775122200-1775127600@grace-hill.org
SUMMARY:Women's Bible Study
DESCRIPTION:The Grace Hill Church Women’s Bible Study invites you to join them in person or on Zoom\, Thursday mornings from 9:30 – 11:00 AM.  They are studying Galatians with an emphasis on The Fruit Of The Spirit.  For more information\, don’t hesitate to contact Janet Howaniec or Jill McClaughry using our contact form.
URL:https://grace-hill.org/event/womens-bible-study-26
LOCATION:Conference Room\, 16970 DeWitt Avenue\, Morgan Hiil\, California
CATEGORIES:Women's Ministry
END:VEVENT
BEGIN:VEVENT
DTSTART;TZID=America/Los_Angeles:20260405T093000
DTEND;TZID=America/Los_Angeles:20260405T103000
DTSTAMP:20260423T164225
CREATED:20260420T140326Z
LAST-MODIFIED:20260420T140625Z
UID:1969-1775381400-1775385000@grace-hill.org
SUMMARY:Sunday Worship Service - Easter Sunday
DESCRIPTION:Join us for a spirited worship service and hear a powerful teaching sermon. \nWatch us live Sundays at 9:30 AM on Facebook.\nMissed the Live Stream? Watch past messages here.
URL:https://grace-hill.org/event/sunday-worship-service-easter-sunday
LOCATION:Sanctuary\, 16970 DeWitt Avenue\, Morgan Hill\, California
CATEGORIES:Services
END:VEVENT
BEGIN:VEVENT
DTSTART;TZID=America/Los_Angeles:20260408T070000
DTEND;TZID=America/Los_Angeles:20260408T080000
DTSTAMP:20260423T164225
CREATED:20260331T220305Z
LAST-MODIFIED:20260331T220305Z
UID:1927-1775631600-1775635200@grace-hill.org
SUMMARY:Men's Bible Study
DESCRIPTION:The Grace Hill Church’s Men’s Bible Study invites you to join them in a Zoom meeting on Wednesday mornings from 7:00 – 8:00 AM.  The group is currently studying the book of Romans. For more information or for the Zoom link\, contact Mark Markham using our contact form.
URL:https://grace-hill.org/event/mens-bible-study-18
LOCATION:Zoom Meeting
CATEGORIES:Men's Ministry
END:VEVENT
BEGIN:VEVENT
DTSTART;TZID=America/Los_Angeles:20260408T100000
DTEND;TZID=America/Los_Angeles:20260408T113000
DTSTAMP:20260423T164225
CREATED:20260331T221359Z
LAST-MODIFIED:20260331T221359Z
UID:1948-1775642400-1775647800@grace-hill.org
SUMMARY:Inductive Bible Study
DESCRIPTION:Join us for our midweek Inductive Bible Study\, where we examine the Bible\, emphasize and observe the text\, interpret its meaning\, and apply it to our lives. \nCurrently\, we are studying the book of Genesis – “In the Beginning: Finding Our Story in God’s Story.” A Journey from Eden to Egypt\, discovering how Genesis reshapes our lives today. Genesis is not only the first book in our Bible; it’s the foundation of all our stories. We will explore how this ancient text continues to resonate with our lives today. \nWhy are we here?\nWhat does it mean to be human?\nDoes God work through the mess of life? \nFrom Eden to Egypt\, we’ll trace the deep storyline that ultimately leads us to Christ—and helps us make sense of our own story along the way. \nWhether you’ve read Genesis a dozen times or never opened it\, this will be a space to grow\, ask big questions\, and be reminded that God’s story is still unfolding. \nWhether you’re brand new to Bible study or have been studying Scripture for decades\, this is a space for you. Bring your questions\, your story\, and your desire to grow in faith—we’ll learn together in community and prayer. Feel free to bring a friend or neighbor along! ALL ARE WELCOME!
URL:https://grace-hill.org/event/inductive-bible-study-11
LOCATION:Fellowship Hall\, 16970 DeWitt Avenue\, Morgan Hill\, California
CATEGORIES:Inductive Bible Study
END:VEVENT
BEGIN:VEVENT
DTSTART;TZID=America/Los_Angeles:20260409T093000
DTEND;TZID=America/Los_Angeles:20260409T110000
DTSTAMP:20260423T164225
CREATED:20260331T220716Z
LAST-MODIFIED:20260331T220716Z
UID:1936-1775727000-1775732400@grace-hill.org
SUMMARY:Women's Bible Study
DESCRIPTION:The Grace Hill Church Women’s Bible Study invites you to join them in person or on Zoom\, Thursday mornings from 9:30 – 11:00 AM.  They are studying Galatians with an emphasis on The Fruit Of The Spirit.  For more information\, don’t hesitate to contact Janet Howaniec or Jill McClaughry using our contact form.
URL:https://grace-hill.org/event/womens-bible-study-9
LOCATION:Conference Room\, 16970 DeWitt Avenue\, Morgan Hiil\, California
CATEGORIES:Women's Ministry
END:VEVENT
END:VCALENDAR