BEGIN:VCALENDAR
VERSION:2.0
PRODID:-//Grace Hill Church - ECPv6.15.20//NONSGML v1.0//EN
CALSCALE:GREGORIAN
METHOD:PUBLISH
X-WR-CALNAME:Grace Hill Church
X-ORIGINAL-URL:https://grace-hill.org
X-WR-CALDESC:Events for Grace Hill Church
REFRESH-INTERVAL;VALUE=DURATION:PT1H
X-Robots-Tag:noindex
X-PUBLISHED-TTL:PT1H
BEGIN:VTIMEZONE
TZID:America/Los_Angeles
BEGIN:DAYLIGHT
TZOFFSETFROM:-0800
TZOFFSETTO:-0700
TZNAME:PDT
DTSTART:20240310T100000
END:DAYLIGHT
BEGIN:STANDARD
TZOFFSETFROM:-0700
TZOFFSETTO:-0800
TZNAME:PST
DTSTART:20241103T090000
END:STANDARD
BEGIN:DAYLIGHT
TZOFFSETFROM:-0800
TZOFFSETTO:-0700
TZNAME:PDT
DTSTART:20250309T100000
END:DAYLIGHT
BEGIN:STANDARD
TZOFFSETFROM:-0700
TZOFFSETTO:-0800
TZNAME:PST
DTSTART:20251102T090000
END:STANDARD
BEGIN:DAYLIGHT
TZOFFSETFROM:-0800
TZOFFSETTO:-0700
TZNAME:PDT
DTSTART:20260308T100000
END:DAYLIGHT
BEGIN:STANDARD
TZOFFSETFROM:-0700
TZOFFSETTO:-0800
TZNAME:PST
DTSTART:20261101T090000
END:STANDARD
END:VTIMEZONE
BEGIN:VEVENT
DTSTART;TZID=America/Los_Angeles:20251029T070000
DTEND;TZID=America/Los_Angeles:20251029T080000
DTSTAMP:20260424T030137
CREATED:20250929T120351Z
LAST-MODIFIED:20250929T120351Z
UID:1614-1761721200-1761724800@grace-hill.org
SUMMARY:Men's Bible Study
DESCRIPTION:The Grace Hill Church’s Men’s Bible Study invites you to join them in a Zoom meeting on Wednesday mornings from 7:00 – 8:00 AM.  The group is currently studying the book of Romans. For more information or for the Zoom link\, contact Mark Markham using our contact form.
URL:https://grace-hill.org/event/mens-bible-study-19
LOCATION:Zoom Meeting
CATEGORIES:Men's Ministry
END:VEVENT
BEGIN:VEVENT
DTSTART;TZID=America/Los_Angeles:20251026T093000
DTEND;TZID=America/Los_Angeles:20251026T103000
DTSTAMP:20260424T030137
CREATED:20250929T122422Z
LAST-MODIFIED:20251109T132931Z
UID:1651-1761471000-1761474600@grace-hill.org
SUMMARY:Sunday Worship Service
DESCRIPTION:Join our spirited worship service and listen to a powerful teaching sermon. \nIn the opening of Philippians\, Paul writes from prison with joy and confidence — not in himself\, but in the God who began a good work among His people and will carry it to completion. Pastor Tyler Allred explores how this truth frees us from both anxiety and apathy: faith is fully God’s work and fully our participation. Discover what it means to live with responsibility without anxiety — trusting that the God who plants the vineyard will bring the final harvest in His time. \n📖 Scripture: Philippians 1:1-11\n📚 Series: Joy in All Things \nPastor Tyler is preaching a series\, Songs in a Strange Land – the Book of Daniel. The title comes from Psalm 137\, where God’s people asked\, “How can we sing the LORD’s song in a foreign land?” It’s a question that still resonates with us: how do we stay faithful and hopeful in a world that doesn’t always share our values? \nWatch us live Sundays at 9:30 AM on Facebook.\nMissed the Live Stream? Watch past messages here.
URL:https://grace-hill.org/event/sunday-worship-service-11
LOCATION:Sanctuary\, 16970 DeWitt Avenue\, Morgan Hill\, California
CATEGORIES:Services
END:VEVENT
END:VCALENDAR