BEGIN:VCALENDAR
VERSION:2.0
PRODID:-//Grace Hill Church - ECPv6.15.20//NONSGML v1.0//EN
CALSCALE:GREGORIAN
METHOD:PUBLISH
X-WR-CALNAME:Grace Hill Church
X-ORIGINAL-URL:https://grace-hill.org
X-WR-CALDESC:Events for Grace Hill Church
REFRESH-INTERVAL;VALUE=DURATION:PT1H
X-Robots-Tag:noindex
X-PUBLISHED-TTL:PT1H
BEGIN:VTIMEZONE
TZID:America/Los_Angeles
BEGIN:DAYLIGHT
TZOFFSETFROM:-0800
TZOFFSETTO:-0700
TZNAME:PDT
DTSTART:20240310T100000
END:DAYLIGHT
BEGIN:STANDARD
TZOFFSETFROM:-0700
TZOFFSETTO:-0800
TZNAME:PST
DTSTART:20241103T090000
END:STANDARD
BEGIN:DAYLIGHT
TZOFFSETFROM:-0800
TZOFFSETTO:-0700
TZNAME:PDT
DTSTART:20250309T100000
END:DAYLIGHT
BEGIN:STANDARD
TZOFFSETFROM:-0700
TZOFFSETTO:-0800
TZNAME:PST
DTSTART:20251102T090000
END:STANDARD
BEGIN:DAYLIGHT
TZOFFSETFROM:-0800
TZOFFSETTO:-0700
TZNAME:PDT
DTSTART:20260308T100000
END:DAYLIGHT
BEGIN:STANDARD
TZOFFSETFROM:-0700
TZOFFSETTO:-0800
TZNAME:PST
DTSTART:20261101T090000
END:STANDARD
END:VTIMEZONE
BEGIN:VEVENT
DTSTART;TZID=America/Los_Angeles:20251112T100000
DTEND;TZID=America/Los_Angeles:20251112T113000
DTSTAMP:20260424T060423
CREATED:20251109T130459Z
LAST-MODIFIED:20251109T130459Z
UID:1697-1762941600-1762947000@grace-hill.org
SUMMARY:Inductive Bible Study
DESCRIPTION:Join us for our midweek Inductive Bible Study\, where we examine the Bible\, emphasizing and observing the text\, interpreting its meaning\, and applying it to our lives. \nCurrently\, we are studying  the book of Genesis called “In the Beginning: Finding Our Story in God’s Story.” A Journey from Eden to Egypt\, discovering how Genesis reshapes our lives today. Genesis is not only the first book in our Bible; it’s the foundation of all our stories. We will explore how this ancient text continues to resonate with our lives today. \nWhy are we here?\nWhat does it mean to be human?\nDoes God work through the mess of life? \nFrom Eden to Egypt\, we’ll trace the deep storyline that ultimately leads us to Christ—and helps us make sense of our own story along the way. \nWhether you’ve read Genesis a dozen times or never opened it\, this will be a space to grow\, ask big questions\, and be reminded that God’s story is still unfolding. \nWhether you’re brand new to Bible study or have been studying Scripture for decades\, this is a space for you. Bring your questions\, your story\, and your desire to grow in faith—we’ll learn together in community and prayer. Feel free to bring a friend or neighbor along! ALL ARE WELCOME!
URL:https://grace-hill.org/event/inductive-bible-study-25
LOCATION:Fellowship Hall\, 16970 DeWitt Avenue\, Morgan Hill\, California
CATEGORIES:Inductive Bible Study
END:VEVENT
BEGIN:VEVENT
DTSTART;TZID=America/Los_Angeles:20251112T070000
DTEND;TZID=America/Los_Angeles:20251112T080000
DTSTAMP:20260424T060423
CREATED:20251109T124945Z
LAST-MODIFIED:20251109T124945Z
UID:1675-1762930800-1762934400@grace-hill.org
SUMMARY:Men's Bible Study
DESCRIPTION:The Grace Hill Church’s Men’s Bible Study invites you to join them in a Zoom meeting on Wednesday mornings from 7:00 – 8:00 AM.  The group is currently studying the book of Romans. For more information or for the Zoom link\, contact Mark Markham using our contact form.
URL:https://grace-hill.org/event/mens-bible-study-7
LOCATION:Zoom Meeting
CATEGORIES:Men's Ministry
END:VEVENT
BEGIN:VEVENT
DTSTART;TZID=America/Los_Angeles:20251109T093000
DTEND;TZID=America/Los_Angeles:20251109T103000
DTSTAMP:20260424T060423
CREATED:20250929T130519Z
LAST-MODIFIED:20251109T132540Z
UID:1666-1762680600-1762684200@grace-hill.org
SUMMARY:Sunday Worship Service
DESCRIPTION:Join our spirited worship service and listen to a powerful teaching sermon. \nDavid Frederick\, Executive Pastor at West Hills Community Church\, is preaching from Philippians 1:12–30 on “The Three Keys for Gratitude in Hardship”—a powerful reminder of how we can choose joy even when life is difficult. \nWatch us live Sundays at 9:30 AM on Facebook.\nMissed the Live Stream? Watch past messages here.
URL:https://grace-hill.org/event/sunday-worship-service-33
LOCATION:Sanctuary\, 16970 DeWitt Avenue\, Morgan Hill\, California
CATEGORIES:Services
END:VEVENT
BEGIN:VEVENT
DTSTART;TZID=America/Los_Angeles:20251106T093000
DTEND;TZID=America/Los_Angeles:20251106T110000
DTSTAMP:20260424T060423
CREATED:20251109T125437Z
LAST-MODIFIED:20251109T125437Z
UID:1685-1762421400-1762426800@grace-hill.org
SUMMARY:Women's Bible Study
DESCRIPTION:The Grace Hill Church Women’s Bible Study invites you to join them in person or on Zoom\, Thursday mornings from 9:30 – 11:00 AM.  They are studying Galatians with an emphasis on The Fruit Of The Spirit.  For more information\, don’t hesitate to contact Janet Howaniec or Jill McClaughry using our contact form.
URL:https://grace-hill.org/event/womens-bible-study
LOCATION:Conference Room\, 16970 DeWitt Avenue\, Morgan Hiil\, California
CATEGORIES:Women's Ministry
END:VEVENT
BEGIN:VEVENT
DTSTART;TZID=America/Los_Angeles:20251105T100000
DTEND;TZID=America/Los_Angeles:20251105T113000
DTSTAMP:20260424T060423
CREATED:20251109T130412Z
LAST-MODIFIED:20251109T130412Z
UID:1695-1762336800-1762342200@grace-hill.org
SUMMARY:Inductive Bible Study
DESCRIPTION:Join us for our midweek Inductive Bible Study\, where we examine the Bible\, emphasizing and observing the text\, interpreting its meaning\, and applying it to our lives. \nCurrently\, we are studying  the book of Genesis called “In the Beginning: Finding Our Story in God’s Story.” A Journey from Eden to Egypt\, discovering how Genesis reshapes our lives today. Genesis is not only the first book in our Bible; it’s the foundation of all our stories. We will explore how this ancient text continues to resonate with our lives today. \nWhy are we here?\nWhat does it mean to be human?\nDoes God work through the mess of life? \nFrom Eden to Egypt\, we’ll trace the deep storyline that ultimately leads us to Christ—and helps us make sense of our own story along the way. \nWhether you’ve read Genesis a dozen times or never opened it\, this will be a space to grow\, ask big questions\, and be reminded that God’s story is still unfolding. \nWhether you’re brand new to Bible study or have been studying Scripture for decades\, this is a space for you. Bring your questions\, your story\, and your desire to grow in faith—we’ll learn together in community and prayer. Feel free to bring a friend or neighbor along! ALL ARE WELCOME!
URL:https://grace-hill.org/event/inductive-bible-study-24
LOCATION:Fellowship Hall\, 16970 DeWitt Avenue\, Morgan Hill\, California
CATEGORIES:Inductive Bible Study
END:VEVENT
BEGIN:VEVENT
DTSTART;TZID=America/Los_Angeles:20251105T070000
DTEND;TZID=America/Los_Angeles:20251105T080000
DTSTAMP:20260424T060423
CREATED:20251109T124856Z
LAST-MODIFIED:20251109T124856Z
UID:1673-1762326000-1762329600@grace-hill.org
SUMMARY:Men's Bible Study
DESCRIPTION:The Grace Hill Church’s Men’s Bible Study invites you to join them in a Zoom meeting on Wednesday mornings from 7:00 – 8:00 AM.  The group is currently studying the book of Romans. For more information or for the Zoom link\, contact Mark Markham using our contact form.
URL:https://grace-hill.org/event/mens-bible-study-5
LOCATION:Zoom Meeting
CATEGORIES:Men's Ministry
END:VEVENT
BEGIN:VEVENT
DTSTART;TZID=America/Los_Angeles:20251102T093000
DTEND;TZID=America/Los_Angeles:20251102T103000
DTSTAMP:20260424T060423
CREATED:20250929T122618Z
LAST-MODIFIED:20250929T122619Z
UID:1654-1762075800-1762079400@grace-hill.org
SUMMARY:Sunday Worship Service
DESCRIPTION:Join our spirited worship service and listen to a powerful teaching sermon. \nPastor Tyler is preaching a series\, Songs in a Strange Land – the Book of Daniel. The title comes from Psalm 137\, where God’s people asked\, “How can we sing the LORD’s song in a foreign land?” It’s a question that still echoes for us: how do we remain faithful and hopeful in a world that doesn’t always share our values? \nWatch us live Sundays at 9:30 AM on Facebook.\nMissed the Live Stream? Watch past messages here.
URL:https://grace-hill.org/event/sunday-worship-service-32
LOCATION:Sanctuary\, 16970 DeWitt Avenue\, Morgan Hill\, California
CATEGORIES:Services
END:VEVENT
BEGIN:VEVENT
DTSTART;TZID=America/Los_Angeles:20251101T100000
DTEND;TZID=America/Los_Angeles:20251101T130000
DTSTAMP:20260424T060423
CREATED:20250929T130349Z
LAST-MODIFIED:20250929T130349Z
UID:1663-1761991200-1762002000@grace-hill.org
SUMMARY:Women's Retreat
DESCRIPTION:Fruit of the Spirit \n” But the fruit of the Spirit is love\, joy\, peace\, patience\, kindness\, goodness\, faithfulness\, gentleness\, and self-control.” – Galatians 5:22-23 \nWhat to expect: \n\nInspiring sessions on living out the Fruit of the Spirit in daily life\nUplifting talks and heartfelt conversations\nOpportunities to connect and build community with sisters in Christ\nSpecial speaker – our very own Melanie Allred\n\n🎯 November 1\, 2025\n🕚 10 AM – 1 PM\n📍 In the Sanctuary \nBring a friend\, Lunch provided\, Scholarships available. \nThe cost is $10.00.\nRSVP to: Marilyn Chorley or Susie Campolong by October 26th. Use our contact form.
URL:https://grace-hill.org/event/womens-retreat
LOCATION:Sanctuary\, 16970 DeWitt Avenue\, Morgan Hill\, California
CATEGORIES:Women's Ministry
END:VEVENT
BEGIN:VEVENT
DTSTART;TZID=America/Los_Angeles:20251030T090000
DTEND;TZID=America/Los_Angeles:20251030T103000
DTSTAMP:20260424T060423
CREATED:20250929T121757Z
LAST-MODIFIED:20250929T121757Z
UID:1642-1761814800-1761820200@grace-hill.org
SUMMARY:Women's Bible Study
DESCRIPTION:The Grace Hill Church Women’s Bible Study invites you to join them in person or on Zoom\, Thursday mornings from 9:30 – 11:00 AM.  They are studying Galatians with an emphasis on The Fruit Of The Spirit.  For more information\, don’t hesitate to contact Janet Howaniec or Jill McClaughry using our contact form.
URL:https://grace-hill.org/event/womens-bible-study-15
LOCATION:Conference Room\, 16970 DeWitt Avenue\, Morgan Hiil\, California
CATEGORIES:Women's Ministry
END:VEVENT
BEGIN:VEVENT
DTSTART;TZID=America/Los_Angeles:20251029T100000
DTEND;TZID=America/Los_Angeles:20251029T113000
DTSTAMP:20260424T060423
CREATED:20250929T120828Z
LAST-MODIFIED:20250929T120828Z
UID:1623-1761732000-1761737400@grace-hill.org
SUMMARY:Inductive Bible Study
DESCRIPTION:Join us for our midweek Inductive Bible Study\, where we examine the Bible\, emphasizing and observing the text\, interpreting its meaning\, and applying it to our lives. \nCurrently\, we are studying  the book of Genesis called “In the Beginning: Finding Our Story in God’s Story.” A Journey from Eden to Egypt\, discovering how Genesis reshapes our lives today. Genesis is not only the first book in our Bible; it’s the foundation of all our stories. We will explore how this ancient text continues to resonate with our lives today. \nWhy are we here?\nWhat does it mean to be human?\nDoes God work through the mess of life? \nFrom Eden to Egypt\, we’ll trace the deep storyline that ultimately leads us to Christ—and helps us make sense of our own story along the way. \nWhether you’ve read Genesis a dozen times or never opened it\, this will be a space to grow\, ask big questions\, and be reminded that God’s story is still unfolding. \nWhether you’re brand new to Bible study or have been studying Scripture for decades\, this is a space for you. Bring your questions\, your story\, and your desire to grow in faith—we’ll learn together in community and prayer. Feel free to bring a friend or neighbor along! ALL ARE WELCOME!
URL:https://grace-hill.org/event/inductive-bible-study-21
LOCATION:Fellowship Hall\, 16970 DeWitt Avenue\, Morgan Hill\, California
CATEGORIES:Inductive Bible Study
END:VEVENT
BEGIN:VEVENT
DTSTART;TZID=America/Los_Angeles:20251029T070000
DTEND;TZID=America/Los_Angeles:20251029T080000
DTSTAMP:20260424T060423
CREATED:20250929T120351Z
LAST-MODIFIED:20250929T120351Z
UID:1614-1761721200-1761724800@grace-hill.org
SUMMARY:Men's Bible Study
DESCRIPTION:The Grace Hill Church’s Men’s Bible Study invites you to join them in a Zoom meeting on Wednesday mornings from 7:00 – 8:00 AM.  The group is currently studying the book of Romans. For more information or for the Zoom link\, contact Mark Markham using our contact form.
URL:https://grace-hill.org/event/mens-bible-study-19
LOCATION:Zoom Meeting
CATEGORIES:Men's Ministry
END:VEVENT
BEGIN:VEVENT
DTSTART;TZID=America/Los_Angeles:20251026T093000
DTEND;TZID=America/Los_Angeles:20251026T103000
DTSTAMP:20260424T060423
CREATED:20250929T122422Z
LAST-MODIFIED:20251109T132931Z
UID:1651-1761471000-1761474600@grace-hill.org
SUMMARY:Sunday Worship Service
DESCRIPTION:Join our spirited worship service and listen to a powerful teaching sermon. \nIn the opening of Philippians\, Paul writes from prison with joy and confidence — not in himself\, but in the God who began a good work among His people and will carry it to completion. Pastor Tyler Allred explores how this truth frees us from both anxiety and apathy: faith is fully God’s work and fully our participation. Discover what it means to live with responsibility without anxiety — trusting that the God who plants the vineyard will bring the final harvest in His time. \n📖 Scripture: Philippians 1:1-11\n📚 Series: Joy in All Things \nPastor Tyler is preaching a series\, Songs in a Strange Land – the Book of Daniel. The title comes from Psalm 137\, where God’s people asked\, “How can we sing the LORD’s song in a foreign land?” It’s a question that still resonates with us: how do we stay faithful and hopeful in a world that doesn’t always share our values? \nWatch us live Sundays at 9:30 AM on Facebook.\nMissed the Live Stream? Watch past messages here.
URL:https://grace-hill.org/event/sunday-worship-service-11
LOCATION:Sanctuary\, 16970 DeWitt Avenue\, Morgan Hill\, California
CATEGORIES:Services
END:VEVENT
END:VCALENDAR